BEGIN:VCALENDAR
VERSION:2.0
PRODID:-//FBDM - ECPv6.15.11//NONSGML v1.0//EN
CALSCALE:GREGORIAN
METHOD:PUBLISH
X-WR-CALNAME:FBDM
X-ORIGINAL-URL:https://www.fbdm-mcaf.ca
X-WR-CALDESC:Évènements pour FBDM
REFRESH-INTERVAL;VALUE=DURATION:PT1H
X-Robots-Tag:noindex
X-PUBLISHED-TTL:PT1H
BEGIN:VTIMEZONE
TZID:America/New_York
BEGIN:DAYLIGHT
TZOFFSETFROM:-0500
TZOFFSETTO:-0400
TZNAME:EDT
DTSTART:20230312T070000
END:DAYLIGHT
BEGIN:STANDARD
TZOFFSETFROM:-0400
TZOFFSETTO:-0500
TZNAME:EST
DTSTART:20231105T060000
END:STANDARD
BEGIN:DAYLIGHT
TZOFFSETFROM:-0500
TZOFFSETTO:-0400
TZNAME:EDT
DTSTART:20240310T070000
END:DAYLIGHT
BEGIN:STANDARD
TZOFFSETFROM:-0400
TZOFFSETTO:-0500
TZNAME:EST
DTSTART:20241103T060000
END:STANDARD
BEGIN:DAYLIGHT
TZOFFSETFROM:-0500
TZOFFSETTO:-0400
TZNAME:EDT
DTSTART:20250309T070000
END:DAYLIGHT
BEGIN:STANDARD
TZOFFSETFROM:-0400
TZOFFSETTO:-0500
TZNAME:EST
DTSTART:20251102T060000
END:STANDARD
END:VTIMEZONE
BEGIN:VEVENT
DTSTART;TZID=America/New_York:20240812T103000
DTEND;TZID=America/New_York:20240812T113000
DTSTAMP:20260419T111721
CREATED:20240805T221912Z
LAST-MODIFIED:20240805T221912Z
UID:10000108-1723458600-1723462200@www.fbdm-mcaf.ca
SUMMARY:Le 12 août\, j'achète un livre québécois à la librairie Paulines / Médiaspaul
DESCRIPTION:Cette année\, notre équipe vous attendra une fois de plus pour célébrer Le 12 août\, j’achète un livre québécois\, qui en sera à sa 11e édition. Nous aurons la grande joie de recevoir deux autrices pour des séances de signatures.\nÀ 10 h 30\, Annie Groovie présentera “MIlle et une pommes”\, une nouvelle aventure de la série La vie rêvée de Léon et ses amis\, publiée chez Presses Aventure.\nÀ 13 h 30\, notre libraire Mike C Vienneau animera une petite causerie avec Marie-Christine Chartier\, qui viendra nous présenter son tout nouveau roman\, “Le garçon d’encre”\, publié aux Éditions Hurtubise. La discussion sera suivie d’une séance de signature.\nToute la journée\, nos libraires seront là pour partager avec vous leurs coups de cœur\, leurs classiques\, leurs découvertes ou leurs incontournables de la littérature québécoise
URL:https://www.fbdm-mcaf.ca/event/le-12-aout-jachete-un-livre-quebecois-a-la-librairie-paulines-mediaspaul/
LOCATION:Librairie Paulines\, 2653\, Masson\, Montréal\, Québec\, H1Y 1W3\, Canada
CATEGORIES:Dédicace
ATTACH;FMTTYPE=image/jpeg:https://www.fbdm-mcaf.ca/wp-content/uploads/454293476_913303700839945_5472503547133322457_n.jpg
END:VEVENT
BEGIN:VEVENT
DTSTART;TZID=America/New_York:20240812T140000
DTEND;TZID=America/New_York:20240812T180000
DTSTAMP:20260419T111721
CREATED:20240717T163319Z
LAST-MODIFIED:20240717T163319Z
UID:10000090-1723471200-1723485600@www.fbdm-mcaf.ca
SUMMARY:Dédicaces - Sacha Lefebvre\, Jean-François Laliberté\, Mathieu Benoit
DESCRIPTION:Le 12 août\, j’achète un livre québécois! 💙\nPour l’occasion\, rendez-vous à la Librairie Planète BD pour une séance de dédicaces en compagnie de créateurs québécois.\nLes trois créateurs seront sur place afin de rencontrer leurs lecteurs et de dédicacer des exemplaires.\nSacha Lefebvre et Jean-François Laliberté ont créé ensemble la série U-MERLIN et le manga entièrement québécois Les Élus Eljun. De son côté\, Mathieu Benoit a illustré la série L’école des superhéros\, écrite par Carine Paquin\, ainsi que Sire Dodoom\, écrite par nul autre que Jean-François Laliberté.\nNous vous attendons à la librairie de 14h à la fermeture pour ces belles rencontres!
URL:https://www.fbdm-mcaf.ca/event/dedicaces-sacha-lefebvre-jean-francois-laliberte-mathieu-benoit/
LOCATION:Planète BD\, 4077 R. Saint-Denis\, Montréal\, Québec\, H2W 2M7\, Canada
CATEGORIES:Dédicace
ATTACH;FMTTYPE=image/jpeg:https://www.fbdm-mcaf.ca/wp-content/uploads/451749558_819073520201034_8671309505817992597_n.jpg
GEO:45.5211129;-73.5789005
X-APPLE-STRUCTURED-LOCATION;VALUE=URI;X-ADDRESS=Planète BD 4077 R. Saint-Denis Montréal Québec H2W 2M7 Canada;X-APPLE-RADIUS=500;X-TITLE=4077 R. Saint-Denis:geo:-73.5789005,45.5211129
END:VEVENT
BEGIN:VEVENT
DTSTART;TZID=America/New_York:20240812T150000
DTEND;TZID=America/New_York:20240812T163000
DTSTAMP:20260419T111721
CREATED:20240805T221513Z
LAST-MODIFIED:20240805T221523Z
UID:10000104-1723474800-1723480200@www.fbdm-mcaf.ca
SUMMARY:Séance de dédicaces avec Cassandra Calin
DESCRIPTION:Dans le cadre de la journée Le 12 août\, j’achète un livre québécois\, la très populaire bédéiste Cassandra Calin sera sur place pour une séance de signature.\nVous aurez la chance d’échanger avec elle autour de sa récente BD\, LA NOUVELLE\, une histoire comique et charmante sur le changement et l’acceptation\, inspirée par l’expérience d’immigration de l’autrice.\nPublic cible : 9 à 12 ans\nAu plaisir de vous y voir !
URL:https://www.fbdm-mcaf.ca/event/seance-de-dedicaces-avec-cassandra-calin/
LOCATION:Librairie Monet\, 2752\, rue de Salaberry\, Montréal\, Québec\, H3M 1L3\, Canada
CATEGORIES:Dédicace
ATTACH;FMTTYPE=image/jpeg:https://www.fbdm-mcaf.ca/wp-content/uploads/453592676_953084493529991_7865905535100837527_n.jpg
END:VEVENT
BEGIN:VEVENT
DTSTART;TZID=America/New_York:20240812T170000
DTEND;TZID=America/New_York:20240812T183000
DTSTAMP:20260419T111721
CREATED:20240805T221722Z
LAST-MODIFIED:20240805T221722Z
UID:10000106-1723482000-1723487400@www.fbdm-mcaf.ca
SUMMARY:Michel Rabagliati | St-Denis Montréal
DESCRIPTION:Afin de célébrer « Le 12 août\, j’achète un livre québécois » venez rencontrer Michel Rabagliati pour une séance de signature en magasin! 💙⚜️\nQUAND : Lundi 12 août à partir de 17h00\nOÙ : Renaud-Bray\, St-Denis\, Montréal
URL:https://www.fbdm-mcaf.ca/event/michel-rabagliati-st-denis-montreal/
LOCATION:Renaud-Bray\, Saint-Denis\, 4380 Rue St-Denis\, Montréal\, Québec\, H2J 2L1\, Canada
CATEGORIES:Dédicace
ATTACH;FMTTYPE=image/jpeg:https://www.fbdm-mcaf.ca/wp-content/uploads/453192837_907922794714122_6476533474664789880_n.jpg
END:VEVENT
END:VCALENDAR