BEGIN:VCALENDAR
VERSION:2.0
PRODID:-//FBDM - ECPv6.15.11//NONSGML v1.0//EN
CALSCALE:GREGORIAN
METHOD:PUBLISH
X-ORIGINAL-URL:https://www.fbdm-mcaf.ca
X-WR-CALDESC:Évènements pour FBDM
REFRESH-INTERVAL;VALUE=DURATION:PT1H
X-Robots-Tag:noindex
X-PUBLISHED-TTL:PT1H
BEGIN:VTIMEZONE
TZID:America/New_York
BEGIN:DAYLIGHT
TZOFFSETFROM:-0500
TZOFFSETTO:-0400
TZNAME:EDT
DTSTART:20240310T070000
END:DAYLIGHT
BEGIN:STANDARD
TZOFFSETFROM:-0400
TZOFFSETTO:-0500
TZNAME:EST
DTSTART:20241103T060000
END:STANDARD
BEGIN:DAYLIGHT
TZOFFSETFROM:-0500
TZOFFSETTO:-0400
TZNAME:EDT
DTSTART:20250309T070000
END:DAYLIGHT
BEGIN:STANDARD
TZOFFSETFROM:-0400
TZOFFSETTO:-0500
TZNAME:EST
DTSTART:20251102T060000
END:STANDARD
BEGIN:DAYLIGHT
TZOFFSETFROM:-0500
TZOFFSETTO:-0400
TZNAME:EDT
DTSTART:20260308T070000
END:DAYLIGHT
BEGIN:STANDARD
TZOFFSETFROM:-0400
TZOFFSETTO:-0500
TZNAME:EST
DTSTART:20261101T060000
END:STANDARD
BEGIN:DAYLIGHT
TZOFFSETFROM:-0500
TZOFFSETTO:-0400
TZNAME:EDT
DTSTART:20270314T070000
END:DAYLIGHT
BEGIN:STANDARD
TZOFFSETFROM:-0400
TZOFFSETTO:-0500
TZNAME:EST
DTSTART:20271107T060000
END:STANDARD
END:VTIMEZONE
BEGIN:VEVENT
DTSTART;VALUE=DATE:20251014
DTEND;VALUE=DATE:20260131
DTSTAMP:20260425T095515
CREATED:20251016T212410Z
LAST-MODIFIED:20251016T212410Z
UID:10001229-1760400000-1769817599@www.fbdm-mcaf.ca
SUMMARY:Exposition Jean-Paul Eid - De Croc à Crue
DESCRIPTION:Jean-Paul Eid s’expose à La Pastèque!\n\n\n\n\nÀ l’occasion de la sortie de CRUE en novembre prochain au Québec\, son dernier titre écrit en collaboration avec Claude Paiement\, nous vous proposons une virée au coeur de l’art et du talent de @jeanpauleid ; l’occasion pour vous de (re)découvrir ses livres : LE PETIT ASTRONAUTE\, les aventures de Jérôme Bigras\, MEMORIA\, et bien d’autres!  \nDu 14 octobre 2025 au 30 janvier 2026\, à la boutique de La Pastèque
URL:https://www.fbdm-mcaf.ca/event/exposition-jean-paul-eid-de-croc-a-crue/
LOCATION:La Pastèque\, 102 Av Laurier Ouest\, Montréal\, Québec\, Canada
CATEGORIES:Exposition
ATTACH;FMTTYPE=image/png:https://www.fbdm-mcaf.ca/wp-content/uploads/Capture-decran-le-2025-10-16-a-17.20.23.png
END:VEVENT
BEGIN:VEVENT
DTSTART;TZID=America/New_York:20260129T170000
DTEND;TZID=America/New_York:20260129T200000
DTSTAMP:20260425T095515
CREATED:20260123T194529Z
LAST-MODIFIED:20260123T194529Z
UID:10001290-1769706000-1769716800@www.fbdm-mcaf.ca
SUMMARY:Lancement - Laurence à son insu
DESCRIPTION:Les Éditions Mécanique Générale ont le plaisir de vous inviter au lancement de la bande dessinée Laurence à son insu\, de Simon Labelle.Retrouvez-nous le 29 janvier prochain dès 17h à la LibrairiePlanète BD (4077 R. Saint-Denis\, Montréal\, QC H2W 2M7)!\nAu menu :– Dédicaces– Apéritif– Séance de dédicaces\nLe livre sera en vente sur place.
URL:https://www.fbdm-mcaf.ca/event/lancement-laurence-a-son-insu/
LOCATION:Planète BD\, 4077 R. Saint-Denis\, Montréal\, Québec\, H2W 2M7\, Canada
CATEGORIES:Lancement
ATTACH;FMTTYPE=image/png:https://www.fbdm-mcaf.ca/wp-content/uploads/Capture-decran-le-2026-01-23-a-14.44.40.png
GEO:45.5211129;-73.5789005
X-APPLE-STRUCTURED-LOCATION;VALUE=URI;X-ADDRESS=Planète BD 4077 R. Saint-Denis Montréal Québec H2W 2M7 Canada;X-APPLE-RADIUS=500;X-TITLE=4077 R. Saint-Denis:geo:-73.5789005,45.5211129
END:VEVENT
END:VCALENDAR