BEGIN:VCALENDAR
VERSION:2.0
PRODID:-//FBDM - ECPv6.15.11//NONSGML v1.0//EN
CALSCALE:GREGORIAN
METHOD:PUBLISH
X-ORIGINAL-URL:https://www.fbdm-mcaf.ca
X-WR-CALDESC:Évènements pour FBDM
REFRESH-INTERVAL;VALUE=DURATION:PT1H
X-Robots-Tag:noindex
X-PUBLISHED-TTL:PT1H
BEGIN:VTIMEZONE
TZID:America/New_York
BEGIN:DAYLIGHT
TZOFFSETFROM:-0500
TZOFFSETTO:-0400
TZNAME:EDT
DTSTART:20240310T070000
END:DAYLIGHT
BEGIN:STANDARD
TZOFFSETFROM:-0400
TZOFFSETTO:-0500
TZNAME:EST
DTSTART:20241103T060000
END:STANDARD
BEGIN:DAYLIGHT
TZOFFSETFROM:-0500
TZOFFSETTO:-0400
TZNAME:EDT
DTSTART:20250309T070000
END:DAYLIGHT
BEGIN:STANDARD
TZOFFSETFROM:-0400
TZOFFSETTO:-0500
TZNAME:EST
DTSTART:20251102T060000
END:STANDARD
BEGIN:DAYLIGHT
TZOFFSETFROM:-0500
TZOFFSETTO:-0400
TZNAME:EDT
DTSTART:20260308T070000
END:DAYLIGHT
BEGIN:STANDARD
TZOFFSETFROM:-0400
TZOFFSETTO:-0500
TZNAME:EST
DTSTART:20261101T060000
END:STANDARD
END:VTIMEZONE
BEGIN:VEVENT
DTSTART;VALUE=DATE:20250924
DTEND;VALUE=DATE:20251208
DTSTAMP:20260425T165047
CREATED:20250919T190054Z
LAST-MODIFIED:20250919T190151Z
UID:10001207-1758672000-1765151999@www.fbdm-mcaf.ca
SUMMARY:Exposition BD de quartier
DESCRIPTION:Découvrez cette exposition de bandes dessinées à l’image des quartiers. \nAu printemps 2021\, lors de forums culturels organisés sur le territoire de MHM\, les résidents souhaitaient trouver un moyen de valoriser le patrimoine immatériel des quartiers. Les maisons de la culture Maisonneuve et Mercier ont donc créé un laboratoire de l’immatériel dont l’objectif était de cristalliser les mémoires des quartiers par des projets de médiation culturelle. \nDurant trois ans\, des artistes de MHM ont sillonné l’arrondissement afin de récolter témoignages et anecdotes des résidentes et résidents du territoire et s’en sont inspirés pour créer des œuvres uniques. Découvrez-en le résultat grâce à cette exposition de bandes dessinées à l’image des quartiers. \nPrésentée au Foyer
URL:https://www.fbdm-mcaf.ca/event/bd-de-quartier-2/
LOCATION:Maison de la culture Mercier\, 8105 rue Hochelaga\, Montréal\, Québec\, H1L2K9\, Canada
CATEGORIES:Exposition
ATTACH;FMTTYPE=image/png:https://www.fbdm-mcaf.ca/wp-content/uploads/Capture-decran-le-2025-09-19-a-14.57.48.png
END:VEVENT
BEGIN:VEVENT
DTSTART;TZID=America/New_York:20250925T170000
DTEND;TZID=America/New_York:20250925T190000
DTSTAMP:20260425T165047
CREATED:20250929T183219Z
LAST-MODIFIED:20250929T183219Z
UID:10001213-1758819600-1758826800@www.fbdm-mcaf.ca
SUMMARY:Lancement du roman graphique LA BÊTE À SA MÈRE
DESCRIPTION:Lancement du roman graphique La bête à sa mère\, d’après l’œuvre de David Goudreault!\nRendez-vous avec Eldiablo et Laurent Pinabel le jeudi 25 septembre à 17 h chez Planète BD\, au 4077\, rue Saint-Denis\, Montréal (QC)\, H2W 2M7.\nSéance de dédicaces et vente de livres sur place.
URL:https://www.fbdm-mcaf.ca/event/lancement-du-roman-graphique-la-bete-a-sa-mere/
LOCATION:Québec
CATEGORIES:Lancement
ATTACH;FMTTYPE=image/jpeg:https://www.fbdm-mcaf.ca/wp-content/uploads/lancement-bete-a-sa-mere.jpg
END:VEVENT
BEGIN:VEVENT
DTSTART;TZID=America/New_York:20250925T173000
DTEND;TZID=America/New_York:20250925T184500
DTSTAMP:20260425T165047
CREATED:20250919T184453Z
LAST-MODIFIED:20250919T184650Z
UID:10001203-1758821400-1758825900@www.fbdm-mcaf.ca
SUMMARY:Ces mémoires archivées en BD : L'année du lièvre v.1 de Tian
DESCRIPTION:Et si les bandes dessinées étaient avant tout des vaisseaux de mémoire et d’archives ? Ce club de lecture propose un nouveau regard sur la transmission orale et écrite des histoires grâce à la bande dessinée. Un livre par mois à lire\, et une rencontre pour échanger en petit groupe. \nInscrivez-vous aux séances de votre choix.
URL:https://www.fbdm-mcaf.ca/event/ces-memoires-archivees-en-bd-lannee-du-lievre-v-1-de-tian/
LOCATION:Bibliothèque Maisonneuve\, 4120 Ontario\, Montréal\, Québec\, H1V 1J9\, Canada
CATEGORIES:Club de lecture
ATTACH;FMTTYPE=image/png:https://www.fbdm-mcaf.ca/wp-content/uploads/BiblioMaisonneuve.png
END:VEVENT
END:VCALENDAR