BEGIN:VCALENDAR
VERSION:2.0
PRODID:-//FBDM - ECPv6.15.11//NONSGML v1.0//EN
CALSCALE:GREGORIAN
METHOD:PUBLISH
X-WR-CALNAME:FBDM
X-ORIGINAL-URL:https://www.fbdm-mcaf.ca
X-WR-CALDESC:Évènements pour FBDM
REFRESH-INTERVAL;VALUE=DURATION:PT1H
X-Robots-Tag:noindex
X-PUBLISHED-TTL:PT1H
BEGIN:VTIMEZONE
TZID:America/New_York
BEGIN:DAYLIGHT
TZOFFSETFROM:-0500
TZOFFSETTO:-0400
TZNAME:EDT
DTSTART:20230312T070000
END:DAYLIGHT
BEGIN:STANDARD
TZOFFSETFROM:-0400
TZOFFSETTO:-0500
TZNAME:EST
DTSTART:20231105T060000
END:STANDARD
BEGIN:DAYLIGHT
TZOFFSETFROM:-0500
TZOFFSETTO:-0400
TZNAME:EDT
DTSTART:20240310T070000
END:DAYLIGHT
BEGIN:STANDARD
TZOFFSETFROM:-0400
TZOFFSETTO:-0500
TZNAME:EST
DTSTART:20241103T060000
END:STANDARD
BEGIN:DAYLIGHT
TZOFFSETFROM:-0500
TZOFFSETTO:-0400
TZNAME:EDT
DTSTART:20250309T070000
END:DAYLIGHT
BEGIN:STANDARD
TZOFFSETFROM:-0400
TZOFFSETTO:-0500
TZNAME:EST
DTSTART:20251102T060000
END:STANDARD
END:VTIMEZONE
BEGIN:VEVENT
DTSTART;TZID=America/New_York:20241007T080000
DTEND;TZID=America/New_York:20241028T170000
DTSTAMP:20260421T080218
CREATED:20241008T142918Z
LAST-MODIFIED:20241008T142918Z
UID:10000148-1728288000-1730134800@www.fbdm-mcaf.ca
SUMMARY:Exposition « Les Chercheuses en BD » | Du 7 au 28 octobre 2024 dans la salle d'exposition de la bibliothèque ÉTS
DESCRIPTION:Cet automne\, le Service des relations internationales de l’ÉTS\, en collaboration avec le Service de la bibliothèque\, accueille l’exposition itinérante « Les Chercheuses BD ». Parmi les 21 portraits de scientifiques d’exception\, trois chercheuses de l’ÉTS\, Marie-Hélène Beauséjour\, Martine Dubé et Tasseda Boukerroub\, sont mises à l’honneur. Venez découvrir leurs parcours et contributions scientifiques à travers des bandes dessinées dans un format original et accessible à toutes et à tous! \nÀ propos de l’exposition \nAprès le succès de la 1ère édition\, le consulat général de France à Québec\, en partenariat avec le Fonds de recherche du Québec – Nature et technologies et produite par le Festival BD de Montréal\, lance la 2e édition de l’exposition « Les Chercheuses en BD »\, afin de valoriser le parcours et les métiers des femmes qui font la science d’aujourd’hui\, dans le domaine des STIM (Sciences\, Technologie\, Ingénierie et Mathématiques). \n« Les Chercheuses en BD » est une exposition itinérante\, qui retrace le parcours et la réussite de 21 femmes impliquées dans la collaboration scientifique franco-québécoise\, au travers des œuvres de 21 autrices de bande dessinée\, qui ont produit des portraits inspirants et uniques pour nourrir cette 2e exposition originale. \nDans le cadre d’appels à candidatures lancés à l’été 2023\, de nombreux profils de chercheuses et de bédéistes ont été reçus. Parmi elles\, 21 femmes provenant de 13 universités du Québec ont été sélectionnées. Les artistes\, provenant de la France et du Québec\, ont été choisies par le Festival BD de Montréal pour brosser leur portrait. \nChaque duo chercheuse-bédéiste a échangé afin de produire deux planches de bande dessinée qui illustrent le parcours et les activités de recherche de la scientifique. \nEn plus de présenter les portraits de ces femmes inspirantes qui ont choisi des vocations scientifiques et qui ont fait leur marque dans leurs domaines respectifs\, ces récits se veulent aussi un encouragement pour toutes celles qui songent à poursuivre une carrière dans la recherche et les sciences.
URL:https://www.fbdm-mcaf.ca/event/exposition-les-chercheuses-en-bd-du-7-au-28-octobre-2024-dans-la-salle-dexposition-de-la-bibliotheque-ets/
LOCATION:Bibliothèque de l’École de technologie supérieure\, 1100\, rue Notre-Dame Ouest\, Montréal\, Québec\, H3C 1K3\, Canada
CATEGORIES:Exposition
ATTACH;FMTTYPE=image/png:https://www.fbdm-mcaf.ca/wp-content/uploads/Design-sans-titre-67.png
END:VEVENT
BEGIN:VEVENT
DTSTART;TZID=America/New_York:20241026T130000
DTEND;TZID=America/New_York:20241026T143000
DTSTAMP:20260421T080218
CREATED:20241022T182804Z
LAST-MODIFIED:20241022T182804Z
UID:10000165-1729947600-1729953000@www.fbdm-mcaf.ca
SUMMARY:EN - Anniversary Signing - Crossover Comics
DESCRIPTION:Happening during the heat of our anniversary sale\, we bring you not one\, not two\, but THREE creators that all share a love of chilling and creepy comics. \nHailing from Toronto\, Tate Brombal is best known for his writing on BOOM’s House of Slaughter series but will have debuted with the new Green Lantern: Dark #1 just this Wednesday before. Meanwhile\, Jenna Cha and Lonnie Nadler have retransplanted back to Montreal accompanied with their breakout title The Sickness. \nSwing by on Saturday October 26 at 13h00 to get these books\, get ’em signed\, and chat with the creators — we promise they are not as scary as their stories!
URL:https://www.fbdm-mcaf.ca/event/en-anniversary-signing-crossover-comics/
LOCATION:Crossover Comics\, 3560 Notre-Dame St W\, Montréal\, Québec\, H4C 1P4\, Canada
ATTACH;FMTTYPE=image/jpeg:https://www.fbdm-mcaf.ca/wp-content/uploads/463433861_1069701745161695_2551208176868930549_n.jpg
END:VEVENT
BEGIN:VEVENT
DTSTART;TZID=America/New_York:20241026T140000
DTEND;TZID=America/New_York:20241026T160000
DTSTAMP:20260421T080218
CREATED:20241021T173357Z
LAST-MODIFIED:20241021T173433Z
UID:10000158-1729951200-1729958400@www.fbdm-mcaf.ca
SUMMARY:Heure du conte - Gilbert et les monstres de Rhéa Dufresne et Pishier
DESCRIPTION:Le 26 octobre\, dès 14h\, joignez-vous à nous pour une heure du conte en déguisement avec «Gilbert et les monstres» de Rhéa Dufresne et Pishier. \nC’est à la Librairie le Port de tête (222\, avenue du Mont-Royal E) que ça se passe!Nous vous attendrons en grand nombre! \nhttps://www.editions400coups.com/…/gilbert-et-les-monstres
URL:https://www.fbdm-mcaf.ca/event/heure-du-conte-gilbert-et-les-monstres-de-rhea-dufresne-et-pishier/
LOCATION:Librairie Le Port de tête\, 269 avenue Mont-Royal Est\, Montréal\, Québec\, H2T 1P5\, Canada
CATEGORIES:Causerie
ATTACH;FMTTYPE=image/jpeg:https://www.fbdm-mcaf.ca/wp-content/uploads/Heure-du-conte-gilbert-et-les-monstres.jpg
END:VEVENT
END:VCALENDAR