BEGIN:VCALENDAR
VERSION:2.0
PRODID:-//FBDM - ECPv6.15.11//NONSGML v1.0//EN
CALSCALE:GREGORIAN
METHOD:PUBLISH
X-ORIGINAL-URL:https://www.fbdm-mcaf.ca
X-WR-CALDESC:Évènements pour FBDM
REFRESH-INTERVAL;VALUE=DURATION:PT1H
X-Robots-Tag:noindex
X-PUBLISHED-TTL:PT1H
BEGIN:VTIMEZONE
TZID:America/New_York
BEGIN:DAYLIGHT
TZOFFSETFROM:-0500
TZOFFSETTO:-0400
TZNAME:EDT
DTSTART:20230312T070000
END:DAYLIGHT
BEGIN:STANDARD
TZOFFSETFROM:-0400
TZOFFSETTO:-0500
TZNAME:EST
DTSTART:20231105T060000
END:STANDARD
BEGIN:DAYLIGHT
TZOFFSETFROM:-0500
TZOFFSETTO:-0400
TZNAME:EDT
DTSTART:20240310T070000
END:DAYLIGHT
BEGIN:STANDARD
TZOFFSETFROM:-0400
TZOFFSETTO:-0500
TZNAME:EST
DTSTART:20241103T060000
END:STANDARD
BEGIN:DAYLIGHT
TZOFFSETFROM:-0500
TZOFFSETTO:-0400
TZNAME:EDT
DTSTART:20250309T070000
END:DAYLIGHT
BEGIN:STANDARD
TZOFFSETFROM:-0400
TZOFFSETTO:-0500
TZNAME:EST
DTSTART:20251102T060000
END:STANDARD
END:VTIMEZONE
BEGIN:VEVENT
DTSTART;TZID=America/New_York:20241007T080000
DTEND;TZID=America/New_York:20241028T170000
DTSTAMP:20260421T075543
CREATED:20241008T142918Z
LAST-MODIFIED:20241008T142918Z
UID:10000148-1728288000-1730134800@www.fbdm-mcaf.ca
SUMMARY:Exposition « Les Chercheuses en BD » | Du 7 au 28 octobre 2024 dans la salle d'exposition de la bibliothèque ÉTS
DESCRIPTION:Cet automne\, le Service des relations internationales de l’ÉTS\, en collaboration avec le Service de la bibliothèque\, accueille l’exposition itinérante « Les Chercheuses BD ». Parmi les 21 portraits de scientifiques d’exception\, trois chercheuses de l’ÉTS\, Marie-Hélène Beauséjour\, Martine Dubé et Tasseda Boukerroub\, sont mises à l’honneur. Venez découvrir leurs parcours et contributions scientifiques à travers des bandes dessinées dans un format original et accessible à toutes et à tous! \nÀ propos de l’exposition \nAprès le succès de la 1ère édition\, le consulat général de France à Québec\, en partenariat avec le Fonds de recherche du Québec – Nature et technologies et produite par le Festival BD de Montréal\, lance la 2e édition de l’exposition « Les Chercheuses en BD »\, afin de valoriser le parcours et les métiers des femmes qui font la science d’aujourd’hui\, dans le domaine des STIM (Sciences\, Technologie\, Ingénierie et Mathématiques). \n« Les Chercheuses en BD » est une exposition itinérante\, qui retrace le parcours et la réussite de 21 femmes impliquées dans la collaboration scientifique franco-québécoise\, au travers des œuvres de 21 autrices de bande dessinée\, qui ont produit des portraits inspirants et uniques pour nourrir cette 2e exposition originale. \nDans le cadre d’appels à candidatures lancés à l’été 2023\, de nombreux profils de chercheuses et de bédéistes ont été reçus. Parmi elles\, 21 femmes provenant de 13 universités du Québec ont été sélectionnées. Les artistes\, provenant de la France et du Québec\, ont été choisies par le Festival BD de Montréal pour brosser leur portrait. \nChaque duo chercheuse-bédéiste a échangé afin de produire deux planches de bande dessinée qui illustrent le parcours et les activités de recherche de la scientifique. \nEn plus de présenter les portraits de ces femmes inspirantes qui ont choisi des vocations scientifiques et qui ont fait leur marque dans leurs domaines respectifs\, ces récits se veulent aussi un encouragement pour toutes celles qui songent à poursuivre une carrière dans la recherche et les sciences.
URL:https://www.fbdm-mcaf.ca/event/exposition-les-chercheuses-en-bd-du-7-au-28-octobre-2024-dans-la-salle-dexposition-de-la-bibliotheque-ets/
LOCATION:Bibliothèque de l’École de technologie supérieure\, 1100\, rue Notre-Dame Ouest\, Montréal\, Québec\, H3C 1K3\, Canada
CATEGORIES:Exposition
ATTACH;FMTTYPE=image/png:https://www.fbdm-mcaf.ca/wp-content/uploads/Design-sans-titre-67.png
END:VEVENT
BEGIN:VEVENT
DTSTART;TZID=America/New_York:20241023T180000
DTEND;TZID=America/New_York:20241023T193000
DTSTAMP:20260421T075543
CREATED:20241003T155008Z
LAST-MODIFIED:20241009T174248Z
UID:10000142-1729706400-1729711800@www.fbdm-mcaf.ca
SUMMARY:Club de lecture FBDM | Du webcomic au papier
DESCRIPTION:Retrouvez-nous pour la nouvelle saison du Club de lecture FBDM qui commencera le mercredi 23 ocotbre ! \nAu programme deux BD qui regroupent des strips webcomics : \n\nSalade de fruits de Cathon\nFalse Knees : Prise de becs de Joshua Barkman\n\nAucune obligation d’avoir lu les 2 livres pour venir discuter BD. \nBonne lecture et au plaisir de vous y voir !
URL:https://www.fbdm-mcaf.ca/event/club-de-lecture-fbdm-du-webcomic-au-papier/
LOCATION:Bulla Café\, 4141 rue Saint-Denis\, Montréal\, Québec\, H2W 2M7\, Canada
CATEGORIES:Club de lecture,Club de lecture FBDM
ATTACH;FMTTYPE=image/png:https://www.fbdm-mcaf.ca/wp-content/uploads/CDL_10-2024_FB.png
END:VEVENT
END:VCALENDAR