BEGIN:VCALENDAR
VERSION:2.0
PRODID:-//FBDM - ECPv6.15.11//NONSGML v1.0//EN
CALSCALE:GREGORIAN
METHOD:PUBLISH
X-ORIGINAL-URL:https://www.fbdm-mcaf.ca
X-WR-CALDESC:Évènements pour FBDM
REFRESH-INTERVAL;VALUE=DURATION:PT1H
X-Robots-Tag:noindex
X-PUBLISHED-TTL:PT1H
BEGIN:VTIMEZONE
TZID:America/New_York
BEGIN:DAYLIGHT
TZOFFSETFROM:-0500
TZOFFSETTO:-0400
TZNAME:EDT
DTSTART:20240310T070000
END:DAYLIGHT
BEGIN:STANDARD
TZOFFSETFROM:-0400
TZOFFSETTO:-0500
TZNAME:EST
DTSTART:20241103T060000
END:STANDARD
BEGIN:DAYLIGHT
TZOFFSETFROM:-0500
TZOFFSETTO:-0400
TZNAME:EDT
DTSTART:20250309T070000
END:DAYLIGHT
BEGIN:STANDARD
TZOFFSETFROM:-0400
TZOFFSETTO:-0500
TZNAME:EST
DTSTART:20251102T060000
END:STANDARD
BEGIN:DAYLIGHT
TZOFFSETFROM:-0500
TZOFFSETTO:-0400
TZNAME:EDT
DTSTART:20260308T070000
END:DAYLIGHT
BEGIN:STANDARD
TZOFFSETFROM:-0400
TZOFFSETTO:-0500
TZNAME:EST
DTSTART:20261101T060000
END:STANDARD
END:VTIMEZONE
BEGIN:VEVENT
DTSTART;TZID=America/New_York:20251017T180000
DTEND;TZID=America/New_York:20251017T180000
DTSTAMP:20260423T112130
CREATED:20251016T202836Z
LAST-MODIFIED:20251016T202856Z
UID:10001225-1760724000-1760724000@www.fbdm-mcaf.ca
SUMMARY:Lancement/causerie avec Francis Ouellette et Jeik Dion
DESCRIPTION:Venez assister à la causerie/lancement de Parabolique Blues de Francis Ouellette et Jeik Dion à la Livrerie le 17 octobre prochain.\nAu menu : discussion palpitante\, lecture\, petit verre de vin.\nAu plaisir de vous y croiser !
URL:https://www.fbdm-mcaf.ca/event/lancement-causerie-avec-francis-ouellette-et-jeik-dion/
LOCATION:La Livrerie\, 1378 Rue Ontario E\, Montréal\, Québec\, H2L 1S1\, Canada
CATEGORIES:Causerie,Lancement
ATTACH;FMTTYPE=image/jpeg:https://www.fbdm-mcaf.ca/wp-content/uploads/paraboliqueblues.jpg
END:VEVENT
END:VCALENDAR