BEGIN:VCALENDAR
VERSION:2.0
PRODID:-//FBDM - ECPv6.15.11//NONSGML v1.0//EN
CALSCALE:GREGORIAN
METHOD:PUBLISH
X-WR-CALNAME:FBDM
X-ORIGINAL-URL:https://www.fbdm-mcaf.ca
X-WR-CALDESC:Évènements pour FBDM
REFRESH-INTERVAL;VALUE=DURATION:PT1H
X-Robots-Tag:noindex
X-PUBLISHED-TTL:PT1H
BEGIN:VTIMEZONE
TZID:America/New_York
BEGIN:DAYLIGHT
TZOFFSETFROM:-0500
TZOFFSETTO:-0400
TZNAME:EDT
DTSTART:20240310T070000
END:DAYLIGHT
BEGIN:STANDARD
TZOFFSETFROM:-0400
TZOFFSETTO:-0500
TZNAME:EST
DTSTART:20241103T060000
END:STANDARD
BEGIN:DAYLIGHT
TZOFFSETFROM:-0500
TZOFFSETTO:-0400
TZNAME:EDT
DTSTART:20250309T070000
END:DAYLIGHT
BEGIN:STANDARD
TZOFFSETFROM:-0400
TZOFFSETTO:-0500
TZNAME:EST
DTSTART:20251102T060000
END:STANDARD
BEGIN:DAYLIGHT
TZOFFSETFROM:-0500
TZOFFSETTO:-0400
TZNAME:EDT
DTSTART:20260308T070000
END:DAYLIGHT
BEGIN:STANDARD
TZOFFSETFROM:-0400
TZOFFSETTO:-0500
TZNAME:EST
DTSTART:20261101T060000
END:STANDARD
END:VTIMEZONE
BEGIN:VEVENT
DTSTART;TZID=America/New_York:20250510T140000
DTEND;TZID=America/New_York:20250510T150000
DTSTAMP:20260421T214608
CREATED:20250501T222410Z
LAST-MODIFIED:20250501T222410Z
UID:10001145-1746885600-1746889200@www.fbdm-mcaf.ca
SUMMARY:Quiz manga et super-héros
DESCRIPTION:Quiz pour les 9 ans et + animé par Olivier Hamel à la bibliothèque Saint-Charles. \n\n\n\nKaiju no 8\, Demon Slayer\, Dragon Ball… tu es un spécialiste des mangas\, tu penses tout connaître de l’univers des shonen et des shojos? Alors viens tester ta puissance dans l’arène et prépare-toi au combat! C’est l’heure du quiz manga le plus puissant de l’univers!!!! De Tokyo à Saitama OliSan le maître du manga repousse tes limites avec des questions touchant à tous les aspects de cet univers fascinant. Prix à gagner pour les plus puissants guerriers et guerrières! Animé par Olivier Hamel. Pour les 9 ans et +
URL:https://www.fbdm-mcaf.ca/event/quiz-manga-et-super-heros/
LOCATION:Bibliothèque Saint-Charles\, 1050 rue d'Hibernia\, Montréal\, Québec\, H3K 2V2\, Canada
CATEGORIES:Événement spécial,Mai, mois de la BD
ATTACH;FMTTYPE=image/jpeg:https://www.fbdm-mcaf.ca/wp-content/uploads/Quiz-manga-et-super-heros.jpg
END:VEVENT
END:VCALENDAR