BEGIN:VCALENDAR
VERSION:2.0
PRODID:-//FBDM - ECPv6.15.11//NONSGML v1.0//EN
CALSCALE:GREGORIAN
METHOD:PUBLISH
X-ORIGINAL-URL:https://www.fbdm-mcaf.ca
X-WR-CALDESC:Évènements pour FBDM
REFRESH-INTERVAL;VALUE=DURATION:PT1H
X-Robots-Tag:noindex
X-PUBLISHED-TTL:PT1H
BEGIN:VTIMEZONE
TZID:America/New_York
BEGIN:DAYLIGHT
TZOFFSETFROM:-0500
TZOFFSETTO:-0400
TZNAME:EDT
DTSTART:20250309T070000
END:DAYLIGHT
BEGIN:STANDARD
TZOFFSETFROM:-0400
TZOFFSETTO:-0500
TZNAME:EST
DTSTART:20251102T060000
END:STANDARD
BEGIN:DAYLIGHT
TZOFFSETFROM:-0500
TZOFFSETTO:-0400
TZNAME:EDT
DTSTART:20260308T070000
END:DAYLIGHT
BEGIN:STANDARD
TZOFFSETFROM:-0400
TZOFFSETTO:-0500
TZNAME:EST
DTSTART:20261101T060000
END:STANDARD
BEGIN:DAYLIGHT
TZOFFSETFROM:-0500
TZOFFSETTO:-0400
TZNAME:EDT
DTSTART:20270314T070000
END:DAYLIGHT
BEGIN:STANDARD
TZOFFSETFROM:-0400
TZOFFSETTO:-0500
TZNAME:EST
DTSTART:20271107T060000
END:STANDARD
END:VTIMEZONE
BEGIN:VEVENT
DTSTART;TZID=America/New_York:20260517T140000
DTEND;TZID=America/New_York:20260517T150000
DTSTAMP:20260422T122002
CREATED:20260420T211857Z
LAST-MODIFIED:20260420T212044Z
UID:10001404-1779026400-1779030000@www.fbdm-mcaf.ca
SUMMARY:Le manga québécois avec les créateurs des Élus Eljun
DESCRIPTION:Découvre le processus de création d’un manga 100% québécois! Avec Jean-François et Sacha\, les créateurs de ce populaire manga\, invente un élu unique\, en combinant tes idées pour créer un personnage original et puissant. Deviens toi aussi mangaka en dessinant ton propre élu\, avec l’aide des auteurs! \n\n\nDescription\n\nEntre dans l’univers des Élus Eljun! Jean-François et Sacha\, les créateurs de ce populaire manga\, t’invitent à découvrir le monde qu’ils ont imaginé. Viens rencontrer Jean-François Laliberté\, auteur de BD et mangaka. L’illustrateur Sacha Lefebvre te montrera aussi\, dans une courte vidéo\, comment dessiner un personnage de manga. \nPour les jeunes de 9 à 13 ans.\nPlaces limitées | Inscription requise dès le 17 avril\, en bibliothèque ou par téléphone au 514 872-8738.
URL:https://www.fbdm-mcaf.ca/event/le-manga-quebecois-avec-les-createurs-des-elus-eljun/
LOCATION:Bibliothèque Mercier\, 8105 rue Hochelaga\, Montréal\, Québec\, H1L 2K9\, Canada
CATEGORIES:Causerie,Mai, mois de la BD
ATTACH;FMTTYPE=image/webp:https://www.fbdm-mcaf.ca/wp-content/uploads/eljun_biblio.webp
END:VEVENT
END:VCALENDAR