BEGIN:VCALENDAR
VERSION:2.0
PRODID:-//FBDM - ECPv6.15.11//NONSGML v1.0//EN
CALSCALE:GREGORIAN
METHOD:PUBLISH
X-WR-CALNAME:FBDM
X-ORIGINAL-URL:https://www.fbdm-mcaf.ca
X-WR-CALDESC:Évènements pour FBDM
REFRESH-INTERVAL;VALUE=DURATION:PT1H
X-Robots-Tag:noindex
X-PUBLISHED-TTL:PT1H
BEGIN:VTIMEZONE
TZID:America/New_York
BEGIN:DAYLIGHT
TZOFFSETFROM:-0500
TZOFFSETTO:-0400
TZNAME:EDT
DTSTART:20250309T070000
END:DAYLIGHT
BEGIN:STANDARD
TZOFFSETFROM:-0400
TZOFFSETTO:-0500
TZNAME:EST
DTSTART:20251102T060000
END:STANDARD
BEGIN:DAYLIGHT
TZOFFSETFROM:-0500
TZOFFSETTO:-0400
TZNAME:EDT
DTSTART:20260308T070000
END:DAYLIGHT
BEGIN:STANDARD
TZOFFSETFROM:-0400
TZOFFSETTO:-0500
TZNAME:EST
DTSTART:20261101T060000
END:STANDARD
BEGIN:DAYLIGHT
TZOFFSETFROM:-0500
TZOFFSETTO:-0400
TZNAME:EDT
DTSTART:20270314T070000
END:DAYLIGHT
BEGIN:STANDARD
TZOFFSETFROM:-0400
TZOFFSETTO:-0500
TZNAME:EST
DTSTART:20271107T060000
END:STANDARD
END:VTIMEZONE
BEGIN:VEVENT
DTSTART;TZID=America/New_York:20260523T140000
DTEND;TZID=America/New_York:20260523T160000
DTSTAMP:20260424T033809
CREATED:20260420T213531Z
LAST-MODIFIED:20260420T213618Z
UID:10001412-1779544800-1779552000@www.fbdm-mcaf.ca
SUMMARY:Ruche de zines : traficotage de bandes dessinées (Adultes)
DESCRIPTION:Atelier de création de zines animé par Sara Hébert. \n\n\nDescription\n\nCréez un zine parodique en bande dessinée avec l’autrice et collagiste Sara Hébert dans une atmosphère ludique et décontractée. Pour l’occasion\, vous aurez accès à un trésor de vieilles bandes dessinées à passer aux ciseaux! Scandale! \nAppliquez ces nouvelles connaissances à divers projets artistiques comme la création de zines! Les zines sont des petites publications auto-éditées et faites de façon artisanale. Produits de la contre-culture\, ils permettent de laisser libre cours à son imagination en toute liberté. Soyez les bienvenus à venir créer vos propres zines à la Ruche de zines Biblio Frontenac! \nPour vous inscrire\, contactez la bibliothèque au 514-872-7888. \nActivité sur place\, à la bibliothèque Frontenac.
URL:https://www.fbdm-mcaf.ca/event/ruche-de-zines-traficotage-de-bandes-dessinees-adultes/
LOCATION:Bibliothèque Frontenac\, 2550\, rue Ontario Est\, Montréal\, Québec\, H2K 1W7\, Canada
CATEGORIES:Atelier,Mai, mois de la BD
ATTACH;FMTTYPE=image/png:https://www.fbdm-mcaf.ca/wp-content/uploads/BD-zine_Frontenac.png
GEO:45.532901;-73.5542493
X-APPLE-STRUCTURED-LOCATION;VALUE=URI;X-ADDRESS=Bibliothèque Frontenac 2550 rue Ontario Est Montréal Québec H2K 1W7 Canada;X-APPLE-RADIUS=500;X-TITLE=2550\, rue Ontario Est:geo:-73.5542493,45.532901
END:VEVENT
END:VCALENDAR