BEGIN:VCALENDAR
VERSION:2.0
PRODID:-//FBDM - ECPv6.15.11//NONSGML v1.0//EN
CALSCALE:GREGORIAN
METHOD:PUBLISH
X-WR-CALNAME:FBDM
X-ORIGINAL-URL:https://www.fbdm-mcaf.ca
X-WR-CALDESC:Évènements pour FBDM
REFRESH-INTERVAL;VALUE=DURATION:PT1H
X-Robots-Tag:noindex
X-PUBLISHED-TTL:PT1H
BEGIN:VTIMEZONE
TZID:America/New_York
BEGIN:DAYLIGHT
TZOFFSETFROM:-0500
TZOFFSETTO:-0400
TZNAME:EDT
DTSTART:20230312T070000
END:DAYLIGHT
BEGIN:STANDARD
TZOFFSETFROM:-0400
TZOFFSETTO:-0500
TZNAME:EST
DTSTART:20231105T060000
END:STANDARD
BEGIN:DAYLIGHT
TZOFFSETFROM:-0500
TZOFFSETTO:-0400
TZNAME:EDT
DTSTART:20240310T070000
END:DAYLIGHT
BEGIN:STANDARD
TZOFFSETFROM:-0400
TZOFFSETTO:-0500
TZNAME:EST
DTSTART:20241103T060000
END:STANDARD
BEGIN:DAYLIGHT
TZOFFSETFROM:-0500
TZOFFSETTO:-0400
TZNAME:EDT
DTSTART:20250309T070000
END:DAYLIGHT
BEGIN:STANDARD
TZOFFSETFROM:-0400
TZOFFSETTO:-0500
TZNAME:EST
DTSTART:20251102T060000
END:STANDARD
END:VTIMEZONE
BEGIN:VEVENT
DTSTART;TZID=America/New_York:20240518T140000
DTEND;TZID=America/New_York:20240518T150000
DTSTAMP:20260420T014553
CREATED:20240502T194329Z
LAST-MODIFIED:20240502T194329Z
UID:10000040-1716040800-1716044400@www.fbdm-mcaf.ca
SUMMARY:Ma musique en BD (7-12 ans)
DESCRIPTION:À partir de l’œuvre Stripsody de Cathy Berberian\, les jeunes sont sensibilisés au lien entre la musique et l’image. \n\n\nDescription\n\nIls mettent en son et en scène des images tirées de bandes dessinées. Ils dessinent ensuite leur propre BD et en imaginent la trame sonore. Animé par JM Canada. \nPour les enfants de 7 à 12 ans. \nInscription obligatoire.
URL:https://www.fbdm-mcaf.ca/event/ma-musique-en-bd-7-12-ans/
LOCATION:Bibliothèque du Plateau Mont-Royal\, 465\, avenue du Mont-Royal Est\, Montréal\, Québec\, H2J 1W3\, Canada
CATEGORIES:Mai, mois de la BD
ATTACH;FMTTYPE=image/png:https://www.fbdm-mcaf.ca/wp-content/uploads/5-1.png
GEO:45.5248723;-73.5850543
X-APPLE-STRUCTURED-LOCATION;VALUE=URI;X-ADDRESS=Bibliothèque du Plateau Mont-Royal 465 avenue du Mont-Royal Est Montréal Québec H2J 1W3 Canada;X-APPLE-RADIUS=500;X-TITLE=465\, avenue du Mont-Royal Est:geo:-73.5850543,45.5248723
END:VEVENT
END:VCALENDAR