BEGIN:VCALENDAR
VERSION:2.0
PRODID:-//FBDM - ECPv6.15.11//NONSGML v1.0//EN
CALSCALE:GREGORIAN
METHOD:PUBLISH
X-ORIGINAL-URL:https://www.fbdm-mcaf.ca
X-WR-CALDESC:Évènements pour FBDM
REFRESH-INTERVAL;VALUE=DURATION:PT1H
X-Robots-Tag:noindex
X-PUBLISHED-TTL:PT1H
BEGIN:VTIMEZONE
TZID:America/New_York
BEGIN:DAYLIGHT
TZOFFSETFROM:-0500
TZOFFSETTO:-0400
TZNAME:EDT
DTSTART:20250309T070000
END:DAYLIGHT
BEGIN:STANDARD
TZOFFSETFROM:-0400
TZOFFSETTO:-0500
TZNAME:EST
DTSTART:20251102T060000
END:STANDARD
BEGIN:DAYLIGHT
TZOFFSETFROM:-0500
TZOFFSETTO:-0400
TZNAME:EDT
DTSTART:20260308T070000
END:DAYLIGHT
BEGIN:STANDARD
TZOFFSETFROM:-0400
TZOFFSETTO:-0500
TZNAME:EST
DTSTART:20261101T060000
END:STANDARD
BEGIN:DAYLIGHT
TZOFFSETFROM:-0500
TZOFFSETTO:-0400
TZNAME:EDT
DTSTART:20270314T070000
END:DAYLIGHT
BEGIN:STANDARD
TZOFFSETFROM:-0400
TZOFFSETTO:-0500
TZNAME:EST
DTSTART:20271107T060000
END:STANDARD
END:VTIMEZONE
BEGIN:VEVENT
DTSTART;TZID=America/New_York:20260502T140000
DTEND;TZID=America/New_York:20260502T150000
DTSTAMP:20260421T193456
CREATED:20260420T201738Z
LAST-MODIFIED:20260420T201829Z
UID:10001380-1777730400-1777734000@www.fbdm-mcaf.ca
SUMMARY:Dessine-moi une BD ! (7-12 ans)
DESCRIPTION:C’est le mois de la BD et pour l’occasion\, on propose aux 7 à 12 ans une activité de création animée par l’artiste Danièle DeBlois. \n\n\nDescription\n\nPhylactères\, onomatopées\, cases… Tous les codes et composantes de la BD seront abordés en dessinant une histoire commune. Sous la supervision de l’artiste Danièle DeBlois\, les jeunes réaliseront une ou plusieurs cases de BD en créant une histoire commune. \n7 à 12 ans
URL:https://www.fbdm-mcaf.ca/event/dessine-moi-une-bd-7-12-ans/
LOCATION:Bibliothèque de Saint-Léonard\, 8420 boulevard Lacordaire\, Montréal\, Québec\, H1R3G5\, Canada
CATEGORIES:Atelier,Mai, mois de la BD
ATTACH;FMTTYPE=image/png:https://www.fbdm-mcaf.ca/wp-content/uploads/Capture-decran-le-2026-04-20-a-16.13.49.png
END:VEVENT
END:VCALENDAR