BEGIN:VCALENDAR
VERSION:2.0
PRODID:-//FBDM - ECPv6.15.11//NONSGML v1.0//EN
CALSCALE:GREGORIAN
METHOD:PUBLISH
X-WR-CALNAME:FBDM
X-ORIGINAL-URL:https://www.fbdm-mcaf.ca
X-WR-CALDESC:Évènements pour FBDM
REFRESH-INTERVAL;VALUE=DURATION:PT1H
X-Robots-Tag:noindex
X-PUBLISHED-TTL:PT1H
BEGIN:VTIMEZONE
TZID:America/New_York
BEGIN:DAYLIGHT
TZOFFSETFROM:-0500
TZOFFSETTO:-0400
TZNAME:EDT
DTSTART:20250309T070000
END:DAYLIGHT
BEGIN:STANDARD
TZOFFSETFROM:-0400
TZOFFSETTO:-0500
TZNAME:EST
DTSTART:20251102T060000
END:STANDARD
BEGIN:DAYLIGHT
TZOFFSETFROM:-0500
TZOFFSETTO:-0400
TZNAME:EDT
DTSTART:20260308T070000
END:DAYLIGHT
BEGIN:STANDARD
TZOFFSETFROM:-0400
TZOFFSETTO:-0500
TZNAME:EST
DTSTART:20261101T060000
END:STANDARD
BEGIN:DAYLIGHT
TZOFFSETFROM:-0500
TZOFFSETTO:-0400
TZNAME:EDT
DTSTART:20270314T070000
END:DAYLIGHT
BEGIN:STANDARD
TZOFFSETFROM:-0400
TZOFFSETTO:-0500
TZNAME:EST
DTSTART:20271107T060000
END:STANDARD
END:VTIMEZONE
BEGIN:VEVENT
DTSTART;TZID=America/New_York:20260517T140000
DTEND;TZID=America/New_York:20260517T150000
DTSTAMP:20260421T211441
CREATED:20260420T212438Z
LAST-MODIFIED:20260420T212514Z
UID:10001406-1779026400-1779030000@www.fbdm-mcaf.ca
SUMMARY:Univers manga : dessine Goku et ses amis
DESCRIPTION:COMPLET\nUn atelier de dessin immersif qui vous plongera dans l’univers palpitant de Goku et ses amis. \n\n\nDescription\n\nDécouvrez les bases du dessin manga en vous inspirant des personnages emblématiques de Dragon Ball. \n\n\n 
URL:https://www.fbdm-mcaf.ca/event/univers-manga-dessine-goku-et-ses-amis/
LOCATION:Bibliothèque de Rivière-des-Prairies\, 9001 boulevard Perras\, Montréal\, Québec\, H1E 3J7\, Canada
CATEGORIES:Atelier,Mai, mois de la BD
ATTACH;FMTTYPE=image/png:https://www.fbdm-mcaf.ca/wp-content/uploads/manga-goku.png
END:VEVENT
END:VCALENDAR