BEGIN:VCALENDAR
VERSION:2.0
PRODID:-//FBDM - ECPv6.15.11//NONSGML v1.0//EN
CALSCALE:GREGORIAN
METHOD:PUBLISH
X-WR-CALNAME:FBDM
X-ORIGINAL-URL:https://www.fbdm-mcaf.ca
X-WR-CALDESC:Évènements pour FBDM
REFRESH-INTERVAL;VALUE=DURATION:PT1H
X-Robots-Tag:noindex
X-PUBLISHED-TTL:PT1H
BEGIN:VTIMEZONE
TZID:America/New_York
BEGIN:DAYLIGHT
TZOFFSETFROM:-0500
TZOFFSETTO:-0400
TZNAME:EDT
DTSTART:20250309T070000
END:DAYLIGHT
BEGIN:STANDARD
TZOFFSETFROM:-0400
TZOFFSETTO:-0500
TZNAME:EST
DTSTART:20251102T060000
END:STANDARD
BEGIN:DAYLIGHT
TZOFFSETFROM:-0500
TZOFFSETTO:-0400
TZNAME:EDT
DTSTART:20260308T070000
END:DAYLIGHT
BEGIN:STANDARD
TZOFFSETFROM:-0400
TZOFFSETTO:-0500
TZNAME:EST
DTSTART:20261101T060000
END:STANDARD
BEGIN:DAYLIGHT
TZOFFSETFROM:-0500
TZOFFSETTO:-0400
TZNAME:EDT
DTSTART:20270314T070000
END:DAYLIGHT
BEGIN:STANDARD
TZOFFSETFROM:-0400
TZOFFSETTO:-0500
TZNAME:EST
DTSTART:20271107T060000
END:STANDARD
END:VTIMEZONE
BEGIN:VEVENT
DTSTART;TZID=America/New_York:20260510T150000
DTEND;TZID=America/New_York:20260510T163000
DTSTAMP:20260421T171956
CREATED:20260420T210837Z
LAST-MODIFIED:20260420T210906Z
UID:10001398-1778425200-1778430600@www.fbdm-mcaf.ca
SUMMARY:Mai\, mois de la BD - Fabriquer sa propre épinglette
DESCRIPTION:Autour du thème de la BD\, cet atelier te permettra de partir avec un macaron bien à toi. \n\n\nDescription\n\nQue ce soit en utilisant une image que tu as sélectionnée ou en la dessinant toi-même\, cet atelier te permettra de partir avec un macaron bien à toi. \nLes enfants de moins de 8 ans doivent être accompagnés de leurs parents. \nLes inscriptions débutent un mois avant l’activité.
URL:https://www.fbdm-mcaf.ca/event/mai-mois-de-la-bd-fabriquer-sa-propre-epinglette/
LOCATION:Benny Fab\, 6400 avenue de Monkland\, Montréal\, Québec\, H4B 1H3\, Canada
CATEGORIES:Atelier,Mai, mois de la BD
ATTACH;FMTTYPE=image/png:https://www.fbdm-mcaf.ca/wp-content/uploads/epinglette.png
END:VEVENT
END:VCALENDAR