BEGIN:VCALENDAR
VERSION:2.0
PRODID:-//MCAF - ECPv6.15.11//NONSGML v1.0//EN
CALSCALE:GREGORIAN
METHOD:PUBLISH
X-WR-CALNAME:MCAF
X-ORIGINAL-URL:https://www.fbdm-mcaf.ca/en/
X-WR-CALDESC:Events for MCAF
REFRESH-INTERVAL;VALUE=DURATION:PT1H
X-Robots-Tag:noindex
X-PUBLISHED-TTL:PT1H
BEGIN:VTIMEZONE
TZID:America/New_York
BEGIN:DAYLIGHT
TZOFFSETFROM:-0500
TZOFFSETTO:-0400
TZNAME:EDT
DTSTART:20250309T070000
END:DAYLIGHT
BEGIN:STANDARD
TZOFFSETFROM:-0400
TZOFFSETTO:-0500
TZNAME:EST
DTSTART:20251102T060000
END:STANDARD
BEGIN:DAYLIGHT
TZOFFSETFROM:-0500
TZOFFSETTO:-0400
TZNAME:EDT
DTSTART:20260308T070000
END:DAYLIGHT
BEGIN:STANDARD
TZOFFSETFROM:-0400
TZOFFSETTO:-0500
TZNAME:EST
DTSTART:20261101T060000
END:STANDARD
BEGIN:DAYLIGHT
TZOFFSETFROM:-0500
TZOFFSETTO:-0400
TZNAME:EDT
DTSTART:20270314T070000
END:DAYLIGHT
BEGIN:STANDARD
TZOFFSETFROM:-0400
TZOFFSETTO:-0500
TZNAME:EST
DTSTART:20271107T060000
END:STANDARD
END:VTIMEZONE
BEGIN:VEVENT
DTSTART;TZID=America/New_York:20260516T133000
DTEND;TZID=America/New_York:20260516T150000
DTSTAMP:20260424T082706
CREATED:20260420T211536Z
LAST-MODIFIED:20260420T211613Z
UID:10001403-1778938200-1778943600@www.fbdm-mcaf.ca
SUMMARY:Fabrication de macarons
DESCRIPTION:Atelier de fabrication de macarons pour les enfants de 6 à 13 ans \n\n\nDescription\n\nViens fabriquer des macarons pour accrocher à ton chandail ou à ton sac d’école avec tes personnages de mangas ou de bandes dessinées préférés. \nInscriptions sur place ou par téléphone au 514 872-1521\, un mois avant la date de l’activité
URL:https://www.fbdm-mcaf.ca/en/event/fabrication-de-macarons/
LOCATION:Bibliothèque de Salaberry\, 4170 rue De Salaberry\, Montréal\, Québec\, H4J 1H1\, Canada
CATEGORIES:May, Comic Arts Month,Workshop
ATTACH;FMTTYPE=image/png:https://www.fbdm-mcaf.ca/wp-content/uploads/macarons-1.png
END:VEVENT
BEGIN:VEVENT
DTSTART;TZID=America/New_York:20260517T140000
DTEND;TZID=America/New_York:20260517T150000
DTSTAMP:20260424T082706
CREATED:20260420T212438Z
LAST-MODIFIED:20260420T212504Z
UID:10001407-1779026400-1779030000@www.fbdm-mcaf.ca
SUMMARY:FR Univers manga : dessine Goku et ses amis
DESCRIPTION:COMPLET\nUn atelier de dessin immersif qui vous plongera dans l’univers palpitant de Goku et ses amis. \n\n\nDescription\n\nDécouvrez les bases du dessin manga en vous inspirant des personnages emblématiques de Dragon Ball. \n\n\n 
URL:https://www.fbdm-mcaf.ca/en/event/fr-univers-manga-dessine-goku-et-ses-amis/
LOCATION:Bibliothèque de Rivière-des-Prairies\, 9001 boulevard Perras\, Montréal\, Québec\, H1E 3J7\, Canada
CATEGORIES:May, Comic Arts Month,Workshop
ATTACH;FMTTYPE=image/png:https://www.fbdm-mcaf.ca/wp-content/uploads/manga-goku.png
END:VEVENT
BEGIN:VEVENT
DTSTART;TZID=America/New_York:20260517T140000
DTEND;TZID=America/New_York:20260517T150000
DTSTAMP:20260424T082706
CREATED:20260420T211857Z
LAST-MODIFIED:20260420T212022Z
UID:10001405-1779026400-1779030000@www.fbdm-mcaf.ca
SUMMARY:FR Le manga québécois avec les créateurs des Élus Eljun
DESCRIPTION:Découvre le processus de création d’un manga 100% québécois! Avec Jean-François et Sacha\, les créateurs de ce populaire manga\, invente un élu unique\, en combinant tes idées pour créer un personnage original et puissant. Deviens toi aussi mangaka en dessinant ton propre élu\, avec l’aide des auteurs! \n\n\nDescription\n\nEntre dans l’univers des Élus Eljun! Jean-François et Sacha\, les créateurs de ce populaire manga\, t’invitent à découvrir le monde qu’ils ont imaginé. Viens rencontrer Jean-François Laliberté\, auteur de BD et mangaka. L’illustrateur Sacha Lefebvre te montrera aussi\, dans une courte vidéo\, comment dessiner un personnage de manga. \nPour les jeunes de 9 à 13 ans.\nPlaces limitées | Inscription requise dès le 17 avril\, en bibliothèque ou par téléphone au 514 872-8738.
URL:https://www.fbdm-mcaf.ca/en/event/fr-le-manga-quebecois-avec-les-createurs-des-elus-eljun/
LOCATION:Bibliothèque Mercier\, 8105 rue Hochelaga\, Montréal\, Québec\, H1L 2K9\, Canada
CATEGORIES:Discussion,May, Comic Arts Month
ATTACH;FMTTYPE=image/webp:https://www.fbdm-mcaf.ca/wp-content/uploads/eljun_biblio.webp
END:VEVENT
BEGIN:VEVENT
DTSTART;TZID=America/New_York:20260517T140000
DTEND;TZID=America/New_York:20260517T153000
DTSTAMP:20260424T082706
CREATED:20260420T210414Z
LAST-MODIFIED:20260420T210433Z
UID:10001397-1779026400-1779031800@www.fbdm-mcaf.ca
SUMMARY:FR Défi BD : le découpage graphique
DESCRIPTION:Pour les jeunes artistes qui veulent en apprendre plus sur les codes du 9e art. \n\n\nDescription\n\nExercez-vous au découpage graphique d’une bande dessinée avec l’auteur Julien Paré-Sorel. Il vous guidera pas-à-pas à travers les différentes étapes pour passer d’un simple texte vers une fabuleuse page de BD !
URL:https://www.fbdm-mcaf.ca/en/event/fr-defi-bd-le-decoupage-graphique/
LOCATION:Bibliothèque Serge-Bouchard\, 14001 Notre-Dame Est\, Montréal\, Québec\, H1A1T9\, Canada
CATEGORIES:May, Comic Arts Month,Workshop
ATTACH;FMTTYPE=image/jpeg:https://www.fbdm-mcaf.ca/wp-content/uploads/julien_pare-sorel.jpg
END:VEVENT
BEGIN:VEVENT
DTSTART;TZID=America/New_York:20260519T190000
DTEND;TZID=America/New_York:20260519T203000
DTSTAMP:20260424T082706
CREATED:20260420T213241Z
LAST-MODIFIED:20260420T213301Z
UID:10001411-1779217200-1779222600@www.fbdm-mcaf.ca
SUMMARY:FR Cercle de lecture : Bandes dessinées
DESCRIPTION:Venez discuter des livres que vous aurez lus selon la thématique du mois avant la rencontre. \n\n\nDescription\n\nPartagez votre opinion sur ces lectures et échangez avec les autres!
URL:https://www.fbdm-mcaf.ca/en/event/fr-cercle-de-lecture-bandes-dessinees/
LOCATION:Bibliothèque L’Octogone\, 1080 Av. Dollard\, Montréal\, Québec\, H8N 2T9\, Canada
CATEGORIES:Book Club,May, Comic Arts Month
ATTACH;FMTTYPE=image/png:https://www.fbdm-mcaf.ca/wp-content/uploads/cerclelecture-octogone.png
END:VEVENT
END:VCALENDAR