BEGIN:VCALENDAR
VERSION:2.0
PRODID:-//MCAF - ECPv6.15.11//NONSGML v1.0//EN
CALSCALE:GREGORIAN
METHOD:PUBLISH
X-WR-CALNAME:MCAF
X-ORIGINAL-URL:https://www.fbdm-mcaf.ca/en/
X-WR-CALDESC:Events for MCAF
REFRESH-INTERVAL;VALUE=DURATION:PT1H
X-Robots-Tag:noindex
X-PUBLISHED-TTL:PT1H
BEGIN:VTIMEZONE
TZID:America/New_York
BEGIN:DAYLIGHT
TZOFFSETFROM:-0500
TZOFFSETTO:-0400
TZNAME:EDT
DTSTART:20250309T070000
END:DAYLIGHT
BEGIN:STANDARD
TZOFFSETFROM:-0400
TZOFFSETTO:-0500
TZNAME:EST
DTSTART:20251102T060000
END:STANDARD
BEGIN:DAYLIGHT
TZOFFSETFROM:-0500
TZOFFSETTO:-0400
TZNAME:EDT
DTSTART:20260308T070000
END:DAYLIGHT
BEGIN:STANDARD
TZOFFSETFROM:-0400
TZOFFSETTO:-0500
TZNAME:EST
DTSTART:20261101T060000
END:STANDARD
BEGIN:DAYLIGHT
TZOFFSETFROM:-0500
TZOFFSETTO:-0400
TZNAME:EDT
DTSTART:20270314T070000
END:DAYLIGHT
BEGIN:STANDARD
TZOFFSETFROM:-0400
TZOFFSETTO:-0500
TZNAME:EST
DTSTART:20271107T060000
END:STANDARD
END:VTIMEZONE
BEGIN:VEVENT
DTSTART;TZID=America/New_York:20260420T080000
DTEND;TZID=America/New_York:20260420T170000
DTSTAMP:20260424T095646
CREATED:20260420T214456Z
LAST-MODIFIED:20260420T214657Z
UID:10001419-1776672000-1776704400@www.fbdm-mcaf.ca
SUMMARY:FR Mange\, lis\, aime - Persepolis & Femme\, vie\, liberté de Marjane Satrapi
DESCRIPTION:COMPLET\nAvec Emmanuela Mouberi \nPour les adultes \n\n\nDescription\n\nDécouvrez la culture d’un pays ou d’un peuple grâce à la lecture d’un livre et la dégustation de mets traditionnels ! \n\n15 février : Chronique de la dérive douce de Dany Laferrière (présenté dans le cadre du mois de l’histoire des Noirs)\n29 mars : L’inventaire des rêves de Chimamanda Ngozi Adichie\n26 avril : Jacaranda de Gaël Faye\n24 mai : Persepolis & Femme\, vie\, liberté de Marjane Satrapi\n7 juin : Eka ashate : ne flanche pas de Naomi Fontaine
URL:https://www.fbdm-mcaf.ca/en/event/fr-mange-lis-aime-persepolis-femme-vie-liberte-de-marjane-satrapi/
LOCATION:Bibliothèque Maisonneuve\, 4120 Ontario\, Montréal\, Québec\, H1V 1J9\, Canada
CATEGORIES:Book Club,May, Comic Arts Month
ATTACH;FMTTYPE=image/webp:https://www.fbdm-mcaf.ca/wp-content/uploads/clubmangelis.webp
END:VEVENT
BEGIN:VEVENT
DTSTART;TZID=America/New_York:20260423T200000
DTEND;TZID=America/New_York:20260423T200000
DTSTAMP:20260424T095646
CREATED:20260325T214724Z
LAST-MODIFIED:20260325T214724Z
UID:10001347-1776974400-1776974400@www.fbdm-mcaf.ca
SUMMARY:FR Lancement de "L'Occupation des sols" de Guy Delisle
DESCRIPTION:À l’occasion de sa venue au Québec\, Guy Delisle\, sera à la librairie Gallimard pour le lancement de sa bande dessinée L’occupation des sols\, publié par Gallimard BD.\nÉvénement organisé dans le cadre du Festival littéraire international Métropolis bleu.
URL:https://www.fbdm-mcaf.ca/en/event/fr-lancement-de-loccupation-des-sols-de-guy-delisle/
LOCATION:Librairie Gallimard\, 3700 Saint-Laurent\, Montréal\, Québec\, H2X2V4\, Canada
CATEGORIES:Launch
ATTACH;FMTTYPE=image/jpeg:https://www.fbdm-mcaf.ca/wp-content/uploads/657522587_1378964560912176_1787642528245141802_n.jpg
END:VEVENT
BEGIN:VEVENT
DTSTART;TZID=America/New_York:20260425T140000
DTEND;TZID=America/New_York:20260425T160000
DTSTAMP:20260424T095646
CREATED:20260417T195743Z
LAST-MODIFIED:20260417T195810Z
UID:10001377-1777125600-1777132800@www.fbdm-mcaf.ca
SUMMARY:FR Lancement officiel du 4e tome de la série Les Élus Eljun
DESCRIPTION:Ce samedi 25 avril dès 14h\, venez rencontrer Jean-François Laliberté et Sacha Lefebvre lors du festif lancement du 4e tome de la série Les Élus Eljun!\nVenez faire dédicacer votre exemplaire et récupérer l’ex-libris créé spécialement pour la sortie du livre.\n” Maintenant que Hrym n’est plus une menace\, les aventures des Élus Eljun Revner\, Ormiry et Ulfa se poursuivent!\nAprès un bête accident\, nos héros réalisent que le pouvoir de régénération ultime d’Ormiry n’agit plus. Le groupe devra se scinder en deux. L’Élue du serpent replongera dans son lourd passé. Accompagnée de la princesse Sanna\, elle partira en quête d’un remède. De leur côté\, Ulfa et Revner visiteront Jotunheim\, le monde des géants\, pour participer à un tournoi de combats au colisée d’Einvigi. Ils affronteront de redoutables guerriers et des Élus tous plus puissants les uns que les autres. Le prix… une fleur d’Eljun! ”
URL:https://www.fbdm-mcaf.ca/en/event/fr-lancement-officiel-du-4e-tome-de-la-serie-les-elus-eljun/
LOCATION:Planète BD\, 4077 R. Saint-Denis\, Montréal\, Québec\, H2W 2M7\, Canada
CATEGORIES:Book Signing,Launch
ATTACH;FMTTYPE=image/jpeg:https://www.fbdm-mcaf.ca/wp-content/uploads/eljun.jpg
GEO:45.5211129;-73.5789005
X-APPLE-STRUCTURED-LOCATION;VALUE=URI;X-ADDRESS=Planète BD 4077 R. Saint-Denis Montréal Québec H2W 2M7 Canada;X-APPLE-RADIUS=500;X-TITLE=4077 R. Saint-Denis:geo:-73.5789005,45.5211129
END:VEVENT
BEGIN:VEVENT
DTSTART;TZID=America/New_York:20260430T170000
DTEND;TZID=America/New_York:20260430T190000
DTSTAMP:20260424T095646
CREATED:20260414T040452Z
LAST-MODIFIED:20260414T040638Z
UID:10001371-1777568400-1777575600@www.fbdm-mcaf.ca
SUMMARY:Apérilivres : des pages et des breuvages « BD\, smoothie et pop-corn »
DESCRIPTION:Séances de lecture conviviales \nPour tous \nEntrée libre ! Vous pouvez remplir le formulaire d’intérêt pour nous aider à planifier les séances. \n\n\nDescription\n\nRendez-vous littéraires mensuels en collaboration avec Le Liseur public et la librairie Le Renard perché. Au programme\, des boissons et des collations\, des discussions\, des découvertes et de la bonne humeur ! Apportez votre livre préféré selon la thématique ou laissez-vous inspirer par nos suggestions. \n\n29 janvier : Lectures douillettes\, biscuits et thé du Labrador\n26 février : Gin sans alcool\, chips et histoires d’amitié\n26 mars : Polars scandinaves\, café noir et cornichons\n30 avril : BD\, smoothie et pop-corn\n28 mai : Plumes québécoises\, poutine et limonade\n25 juin : Voix autochtones\, thé glacé et bannique
URL:https://www.fbdm-mcaf.ca/en/event/aperilivres-des-pages-et-des-breuvages-bd-smoothie-et-pop-corn-2/
LOCATION:Bibliothèque Maisonneuve\, 4120 Ontario\, Montréal\, Québec\, H1V 1J9\, Canada
CATEGORIES:Special Event
ATTACH;FMTTYPE=image/webp:https://www.fbdm-mcaf.ca/wp-content/uploads/Aperilivres.webp
END:VEVENT
BEGIN:VEVENT
DTSTART;TZID=America/New_York:20260430T170000
DTEND;TZID=America/New_York:20260430T190000
DTSTAMP:20260424T095646
CREATED:20260116T174911Z
LAST-MODIFIED:20260116T174911Z
UID:10001289-1777568400-1777575600@www.fbdm-mcaf.ca
SUMMARY:Apérilivres : des pages et des breuvages « BD\, smoothie et pop-corn »
DESCRIPTION:Séances de lecture conviviales \nPour tous \nEntrée libre ! Vous pouvez remplir le formulaire d’intérêt pour nous aider à planifier les séances. \n\n\nDescription\n\nRendez-vous littéraires mensuels en collaboration avec Le Liseur public et la librairie Le Renard perché. Au programme\, des boissons et des collations\, des discussions\, des découvertes et de la bonne humeur ! Apportez votre livre préféré selon la thématique ou laissez-vous inspirer par nos suggestions. \n\n29 janvier : Lectures douillettes\, biscuits et thé du Labrador\n26 février : Gin sans alcool\, chips et histoires d’amitié\n26 mars : Polars scandinaves\, café noir et cornichons\n30 avril : BD\, smoothie et pop-corn\n28 mai : Plumes québécoises\, poutine et limonade\n25 juin : Voix autochtones\, thé glacé et bannique
URL:https://www.fbdm-mcaf.ca/en/event/aperilivres-des-pages-et-des-breuvages-bd-smoothie-et-pop-corn/
LOCATION:Bibliothèque Maisonneuve\, 4120 Ontario\, Montréal\, Québec\, H1V 1J9\, Canada
ATTACH;FMTTYPE=image/jpeg:https://www.fbdm-mcaf.ca/wp-content/uploads/aperilivres.jpg
END:VEVENT
BEGIN:VEVENT
DTSTART;TZID=America/New_York:20260502T100000
DTEND;TZID=America/New_York:20260502T170000
DTSTAMP:20260424T095646
CREATED:20260406T171727Z
LAST-MODIFIED:20260406T171727Z
UID:10001358-1777716000-1777741200@www.fbdm-mcaf.ca
SUMMARY:Free Comic Book Day 2026 at Crossover Comics!
DESCRIPTION:Free Comic Book Day is happening this year on May 2nd\, 2026! DOUBLE the fun because it’s also Comics Giveaway Day!! We’ve got a selection of over 40 special free comics spanning all the hits of your fave publishers: Marvel\, DC\, Image\, BOOM\, Dark Horse\, IDW\, and SO MUCH MORE!\nCelebrate our favourite day of the year with us at Crossover Comics\, where an amazing selection of free comics for all ages will be given away to YOU! Invite all your family and friends to get the most of it because there is a limit of comics per person. And\, if the comics you wanted are not the free ones\, as usual there will be big sales — check back for announcements on this event\, all our socials\, and on our website: www.crossovercomics.ca !
URL:https://www.fbdm-mcaf.ca/en/event/free-comic-book-day-2026-at-crossover-comics/
LOCATION:Crossover Comics\, 3560 Notre-Dame St W\, Montréal\, Québec\, H4C 1P4\, Canada
CATEGORIES:Free Comic Book Day,May, Comic Arts Month
ATTACH;FMTTYPE=image/jpeg:https://www.fbdm-mcaf.ca/wp-content/uploads/661022762_1557797096352155_2567573110559296465_n.jpg
END:VEVENT
BEGIN:VEVENT
DTSTART;TZID=America/New_York:20260502T140000
DTEND;TZID=America/New_York:20260502T150000
DTSTAMP:20260424T095646
CREATED:20260420T201738Z
LAST-MODIFIED:20260420T201824Z
UID:10001381-1777730400-1777734000@www.fbdm-mcaf.ca
SUMMARY:Dessine-moi une BD ! (7-12 ans)
DESCRIPTION:C’est le mois de la BD et pour l’occasion\, on propose aux 7 à 12 ans une activité de création animée par l’artiste Danièle DeBlois. \n\n\nDescription\n\nPhylactères\, onomatopées\, cases… Tous les codes et composantes de la BD seront abordés en dessinant une histoire commune. Sous la supervision de l’artiste Danièle DeBlois\, les jeunes réaliseront une ou plusieurs cases de BD en créant une histoire commune. \n7 à 12 ans
URL:https://www.fbdm-mcaf.ca/en/event/dessine-moi-une-bd-7-12-ans/
LOCATION:Bibliothèque de Saint-Léonard\, 8420 boulevard Lacordaire\, Montréal\, Québec\, H1R3G5\, Canada
CATEGORIES:May, Comic Arts Month,Workshop
ATTACH;FMTTYPE=image/png:https://www.fbdm-mcaf.ca/wp-content/uploads/Capture-decran-le-2026-04-20-a-16.13.49.png
END:VEVENT
BEGIN:VEVENT
DTSTART;TZID=America/New_York:20260503T140000
DTEND;TZID=America/New_York:20260503T150000
DTSTAMP:20260424T095646
CREATED:20260420T202134Z
LAST-MODIFIED:20260420T202204Z
UID:10001383-1777816800-1777820400@www.fbdm-mcaf.ca
SUMMARY:FR Ma musique en BD
DESCRIPTION:Venez créer votre propre BD à l’occasion de Mai mois de la BD. \n\n\nDescription\n\nQuand la musique rencontre la BD! À partir d’extraits des bandes dessinées de Jimmy Beaulieu et de musiques variées\, les jeunes découvrent comment la musique et l’image se rencontrent. En se laissant porter par la musique\, ils imaginent et créent leur propre bande dessinée. \nDurée : 55 minutes \nAmbiance : modéré \nNombre de participants : 16 enfants \nPrésenté par Les Jeunesses musicales du Canada \n7-12 ans \nInscription : 514-872-2879 ou sur place
URL:https://www.fbdm-mcaf.ca/en/event/fr-ma-musique-en-bd/
LOCATION:Bibliothèque Saint-Henri\, 4707 rue Notre-Dame Ouest\, Montréal\, Québec\, H4C 1S9\, Canada
CATEGORIES:May, Comic Arts Month,Workshop
ATTACH;FMTTYPE=image/png:https://www.fbdm-mcaf.ca/wp-content/uploads/musique-bd.png
END:VEVENT
BEGIN:VEVENT
DTSTART;TZID=America/New_York:20260503T140000
DTEND;TZID=America/New_York:20260503T150000
DTSTAMP:20260424T095646
CREATED:20260420T193355Z
LAST-MODIFIED:20260420T193919Z
UID:10001379-1777816800-1777820400@www.fbdm-mcaf.ca
SUMMARY:FR Rencontre d’auteur avec le bédéiste Michel Hellman
DESCRIPTION:Rencontre d’auteur avec Michel Hellman\, dans le cadre de son exposition au Centre Sanaaq\, en collaboration avec la Table de quartier Peter McGill. \n\n\nDescription\n\nMichel Hellman\, né au Québec d’une mère française et d’un père américain\, vit et travaille dans le Mile End. Il ne sort jamais de son quartier\, sauf pour aller dans Charlevoix\, le sud de la France ou le Grand Nord. Il s’intéresse à la culture inuit et à la bande dessinée\, et détient une maîtrise en histoire de l’art. \nEmplacement de l’activité : Salle 3 \n\nInscription obligatoire.\nOuverture des inscriptions 2 semaines avant l’activité.\nNombre de places : 45\nDurée de l’activité : 1h\n\nAnimé par Michel Hellman
URL:https://www.fbdm-mcaf.ca/en/event/fr-rencontre-dauteur-avec-le-bedeiste-michel-hellman/
LOCATION:Centre Sanaaq\, 1200 Rue du Sussex\, Montréal\, Québec\, H3H 0E3
CATEGORIES:Discussion,May, Comic Arts Month
ATTACH;FMTTYPE=image/png:https://www.fbdm-mcaf.ca/wp-content/uploads/Michel-Hellman.png
END:VEVENT
BEGIN:VEVENT
DTSTART;TZID=America/New_York:20260505T180000
DTEND;TZID=America/New_York:20260505T193000
DTSTAMP:20260424T095646
CREATED:20260420T204456Z
LAST-MODIFIED:20260420T204518Z
UID:10001387-1778004000-1778009400@www.fbdm-mcaf.ca
SUMMARY:FR Rencontre avec la bédéiste Mireille St-Pierre
DESCRIPTION:La bédéiste présente sa plus récente œuvre\, Suivra le néant\, et partage sa démarche artistique dans un échange privilégié avec le public.
URL:https://www.fbdm-mcaf.ca/en/event/fr-rencontre-avec-la-bedeiste-mireille-st-pierre/
LOCATION:Bibliothèque Henri-Bourassa\, 5400\, boulevard Henri-Bourassa Est\, Montréal\, Québec\, H1G 2S9\, Canada
CATEGORIES:Discussion,May, Comic Arts Month
ATTACH;FMTTYPE=image/webp:https://www.fbdm-mcaf.ca/wp-content/uploads/suivraleneant.webp
GEO:45.6046756;-73.6277805
X-APPLE-STRUCTURED-LOCATION;VALUE=URI;X-ADDRESS=Bibliothèque Henri-Bourassa 5400 boulevard Henri-Bourassa Est Montréal Québec H1G 2S9 Canada;X-APPLE-RADIUS=500;X-TITLE=5400\, boulevard Henri-Bourassa Est:geo:-73.6277805,45.6046756
END:VEVENT
BEGIN:VEVENT
DTSTART;TZID=America/New_York:20260505T180000
DTEND;TZID=America/New_York:20260505T193000
DTSTAMP:20260424T095646
CREATED:20260420T202549Z
LAST-MODIFIED:20260420T202634Z
UID:10001385-1778004000-1778009400@www.fbdm-mcaf.ca
SUMMARY:FR Club de lecture de BD féministe
DESCRIPTION:Les participant.es abordent des sujets féminins d’actualité en bande dessinée. Espace bienveillant sans préjugés. \n\n\nDescription\n\nTitres discutés pour l’hiver-printemps 2026: \n\nLe ciel dans la tête – Antonio Altarriba\nD’or et d’oreillers – Mayalen Goust\nSuivra le néant – Mireille St-Pierre\nPassages secrets T.01: Trompe l’œil – Axelle Lenoir\nClémence en colère – Mirion Malle\n\nLe club de lecture est animé par Fatima Salazar Gomez.
URL:https://www.fbdm-mcaf.ca/en/event/fr-club-de-lecture-de-bd-feministe/
LOCATION:Bibliothèque Henri-Bourassa\, 5400\, boulevard Henri-Bourassa Est\, Montréal\, Québec\, H1G 2S9\, Canada
CATEGORIES:Book Club,May, Comic Arts Month
ATTACH;FMTTYPE=image/png:https://www.fbdm-mcaf.ca/wp-content/uploads/ClublectureBDfem.png
GEO:45.6046756;-73.6277805
X-APPLE-STRUCTURED-LOCATION;VALUE=URI;X-ADDRESS=Bibliothèque Henri-Bourassa 5400 boulevard Henri-Bourassa Est Montréal Québec H1G 2S9 Canada;X-APPLE-RADIUS=500;X-TITLE=5400\, boulevard Henri-Bourassa Est:geo:-73.6277805,45.6046756
END:VEVENT
BEGIN:VEVENT
DTSTART;TZID=America/New_York:20260506T154500
DTEND;TZID=America/New_York:20260506T164500
DTSTAMP:20260424T095646
CREATED:20260420T204902Z
LAST-MODIFIED:20260420T204934Z
UID:10001389-1778082300-1778085900@www.fbdm-mcaf.ca
SUMMARY:FR Quiz BD & Manga
DESCRIPTION:Tu aimes la bande dessinée et les mangas? \n\n\nDescription\n\nTeste tes connaissances en participant à notre quiz rempli de tes héros préférés ! Activité pour les 8 et plus.
URL:https://www.fbdm-mcaf.ca/en/event/fr-quiz-bd-manga/
LOCATION:Bibliothèque de Parc-Extension\, 421 rue Saint-Roch\, Montréal\, Québec\, H3N1K2\, Canada
CATEGORIES:May, Comic Arts Month,Special Event
ATTACH;FMTTYPE=image/png:https://www.fbdm-mcaf.ca/wp-content/uploads/quiz.png
END:VEVENT
BEGIN:VEVENT
DTSTART;TZID=America/New_York:20260507T180000
DTEND;TZID=America/New_York:20260507T180000
DTSTAMP:20260424T095646
CREATED:20260410T192952Z
LAST-MODIFIED:20260410T193014Z
UID:10001367-1778176800-1778176800@www.fbdm-mcaf.ca
SUMMARY:FR Lancement | Valse anxieuse
DESCRIPTION:Les Éditions XYZ sont heureuses de vous inviter au lancement du nouveau roman graphique de Catherine Gauthier\,  .\nL’événement se tiendra à partir de 18h à la librairie Le Port de tête\, à Montréal. Merci de bien indiquer dans l’événement si vous comptez être présent·e\, et au plaisir de célébrer avec vous! \n—Catherine Gauthier a connu un immense succès avec    ’  \, Prix de la critique ACBD de la bande dessinée québécoise en 2024 et traduit dans plusieurs langues.   poursuit le travail de précision graphique et de vérité émotive de l’autrice\, qui se penche cette fois sur le trouble anxieux\, décortiquant avec franchise ce mal du siècle et ses multiples répercussions.\nhttps://editionsxyz.com/livre/valse-anxieuse/
URL:https://www.fbdm-mcaf.ca/en/event/fr-lancement-valse-anxieuse/
LOCATION:Librairie Le Port de tête\, 269 avenue Mont-Royal Est\, Montréal\, Québec\, H2T 1P5\, Canada
CATEGORIES:Launch,May, Comic Arts Month
ATTACH;FMTTYPE=image/jpeg:https://www.fbdm-mcaf.ca/wp-content/uploads/666322490_1372531844898699_4260047427893556446_n.jpg
END:VEVENT
BEGIN:VEVENT
DTSTART;TZID=America/New_York:20260507T190000
DTEND;TZID=America/New_York:20260507T190000
DTSTAMP:20260424T095646
CREATED:20260410T192345Z
LAST-MODIFIED:20260410T192425Z
UID:10001364-1778180400-1778180400@www.fbdm-mcaf.ca
SUMMARY:Benjamin Marra launches What We Mean By Yesterday: Vol 2
DESCRIPTION:Join us at Librairie Drawn & Quarterly for the launch of What We Mean By Yesterday: Vol 2 by Benjamin Marra\, published by Fantagraphics! Benjamin will appear in conversation with D&Q Executive Editor\, Tom Devlin. Books will be available for purchase and following the presentation the author will be signing! This event is free to attend and open to all. No reservation is required./////////////////////////////////////////////////////////////////////////If you’re expecting the second volume of Benjamin Marra’s Instagram epic to pick up exactly where Vol. 1 left off\, think again… Meet NINKUGEL THE SELF!When Ninkugel\, a conniving\, peasant farmworker\, inadvertently causes an insect plague that destroys his town’s crops\, he leaves his village in a self-imposed exile to avert death. From there\, he lies and cheats his way across the countryside in a quest for fortune and high-living. When he convinces the elders of another village that he is a champion demon slayer who has arrived to free them from the tyranny of Balthicus the demon’s reign of terror\, he is feted as a hero savior. But much like the tale of the scorpion and the frog\, will Ninkugel’s devious nature get the better of him? And what does any of this have to do with What We Mean By Yesterday Vol. 1? Although Vol. 2 reads as a distinct and satisfying graphic novel on its own\, there are still mysteries to be revealed!\nWhat We Mean By Yesterday began as a daily comic strip\, one page per day\, posted on Marra’s Instagram (@benjamin_marra). Originally begun as an experiment in drawing faster and looser\, it quickly became one of the more popular pandemic era webcomics\, followed by over 20\,000 readers daily\, and has morphed into the most ambitious project of Marra’s career./////////////////////////////////////////////////////////////////////////Benjamin Marra is the author of several acclaimed graphic novels from Fantagraphics\, including Terror Assaulter (O.M.W.O.T.)\, Night Business\, and American Blood. He received a B.F.A. in Illustration from Syracuse University; studied in Florence\, Italy; and earned his M.F.A. degree in Illustration from the School of Visual Arts. He lives in Montreal./////////////////////////////////////////////////////////////////////////Librairie Drawn & Quarterly Accessibility information:– Our store uses StopGap.ca ramps in an effort to encourage accessibility. Both the step at the entrance\, followed by a half step and a door have StopGap ramps. The door opens inward and is not automated. Once inside\, there are no additional steps.– There is one non-gendered bathroom.– It is not a sober space\, our events sometimes offer alcohol.– Please email events@drawnandquarterly.com if you have any accessibility needs we can accommodate.
URL:https://www.fbdm-mcaf.ca/en/event/benjamin-marra-launches-what-we-mean-by-yesterday-vol-2/
LOCATION:Librairie Drawn & Quarterly\, 211 Rue Bernard Ouest\, Montréal\, Québec\, H2T 2K5\, Canada
CATEGORIES:Launch,May, Comic Arts Month
ATTACH;FMTTYPE=image/jpeg:https://www.fbdm-mcaf.ca/wp-content/uploads/669531683_1362320285922278_8547694187900644737_n.jpg
END:VEVENT
END:VCALENDAR