BEGIN:VCALENDAR
VERSION:2.0
PRODID:-//MCAF - ECPv6.15.11//NONSGML v1.0//EN
CALSCALE:GREGORIAN
METHOD:PUBLISH
X-WR-CALNAME:MCAF
X-ORIGINAL-URL:https://www.fbdm-mcaf.ca/en/
X-WR-CALDESC:Events for MCAF
REFRESH-INTERVAL;VALUE=DURATION:PT1H
X-Robots-Tag:noindex
X-PUBLISHED-TTL:PT1H
BEGIN:VTIMEZONE
TZID:America/New_York
BEGIN:DAYLIGHT
TZOFFSETFROM:-0500
TZOFFSETTO:-0400
TZNAME:EDT
DTSTART:20250309T070000
END:DAYLIGHT
BEGIN:STANDARD
TZOFFSETFROM:-0400
TZOFFSETTO:-0500
TZNAME:EST
DTSTART:20251102T060000
END:STANDARD
BEGIN:DAYLIGHT
TZOFFSETFROM:-0500
TZOFFSETTO:-0400
TZNAME:EDT
DTSTART:20260308T070000
END:DAYLIGHT
BEGIN:STANDARD
TZOFFSETFROM:-0400
TZOFFSETTO:-0500
TZNAME:EST
DTSTART:20261101T060000
END:STANDARD
BEGIN:DAYLIGHT
TZOFFSETFROM:-0500
TZOFFSETTO:-0400
TZNAME:EDT
DTSTART:20270314T070000
END:DAYLIGHT
BEGIN:STANDARD
TZOFFSETFROM:-0400
TZOFFSETTO:-0500
TZNAME:EST
DTSTART:20271107T060000
END:STANDARD
END:VTIMEZONE
BEGIN:VEVENT
DTSTART;TZID=America/New_York:20260420T080000
DTEND;TZID=America/New_York:20260420T170000
DTSTAMP:20260424T050551
CREATED:20260420T214456Z
LAST-MODIFIED:20260420T214657Z
UID:10001419-1776672000-1776704400@www.fbdm-mcaf.ca
SUMMARY:FR Mange\, lis\, aime - Persepolis & Femme\, vie\, liberté de Marjane Satrapi
DESCRIPTION:COMPLET\nAvec Emmanuela Mouberi \nPour les adultes \n\n\nDescription\n\nDécouvrez la culture d’un pays ou d’un peuple grâce à la lecture d’un livre et la dégustation de mets traditionnels ! \n\n15 février : Chronique de la dérive douce de Dany Laferrière (présenté dans le cadre du mois de l’histoire des Noirs)\n29 mars : L’inventaire des rêves de Chimamanda Ngozi Adichie\n26 avril : Jacaranda de Gaël Faye\n24 mai : Persepolis & Femme\, vie\, liberté de Marjane Satrapi\n7 juin : Eka ashate : ne flanche pas de Naomi Fontaine
URL:https://www.fbdm-mcaf.ca/en/event/fr-mange-lis-aime-persepolis-femme-vie-liberte-de-marjane-satrapi/
LOCATION:Bibliothèque Maisonneuve\, 4120 Ontario\, Montréal\, Québec\, H1V 1J9\, Canada
CATEGORIES:Book Club,May, Comic Arts Month
ATTACH;FMTTYPE=image/webp:https://www.fbdm-mcaf.ca/wp-content/uploads/clubmangelis.webp
END:VEVENT
BEGIN:VEVENT
DTSTART;TZID=America/New_York:20260423T200000
DTEND;TZID=America/New_York:20260423T200000
DTSTAMP:20260424T050551
CREATED:20260325T214724Z
LAST-MODIFIED:20260325T214724Z
UID:10001347-1776974400-1776974400@www.fbdm-mcaf.ca
SUMMARY:FR Lancement de "L'Occupation des sols" de Guy Delisle
DESCRIPTION:À l’occasion de sa venue au Québec\, Guy Delisle\, sera à la librairie Gallimard pour le lancement de sa bande dessinée L’occupation des sols\, publié par Gallimard BD.\nÉvénement organisé dans le cadre du Festival littéraire international Métropolis bleu.
URL:https://www.fbdm-mcaf.ca/en/event/fr-lancement-de-loccupation-des-sols-de-guy-delisle/
LOCATION:Librairie Gallimard\, 3700 Saint-Laurent\, Montréal\, Québec\, H2X2V4\, Canada
CATEGORIES:Launch
ATTACH;FMTTYPE=image/jpeg:https://www.fbdm-mcaf.ca/wp-content/uploads/657522587_1378964560912176_1787642528245141802_n.jpg
END:VEVENT
BEGIN:VEVENT
DTSTART;TZID=America/New_York:20260425T140000
DTEND;TZID=America/New_York:20260425T160000
DTSTAMP:20260424T050551
CREATED:20260417T195743Z
LAST-MODIFIED:20260417T195810Z
UID:10001377-1777125600-1777132800@www.fbdm-mcaf.ca
SUMMARY:FR Lancement officiel du 4e tome de la série Les Élus Eljun
DESCRIPTION:Ce samedi 25 avril dès 14h\, venez rencontrer Jean-François Laliberté et Sacha Lefebvre lors du festif lancement du 4e tome de la série Les Élus Eljun!\nVenez faire dédicacer votre exemplaire et récupérer l’ex-libris créé spécialement pour la sortie du livre.\n” Maintenant que Hrym n’est plus une menace\, les aventures des Élus Eljun Revner\, Ormiry et Ulfa se poursuivent!\nAprès un bête accident\, nos héros réalisent que le pouvoir de régénération ultime d’Ormiry n’agit plus. Le groupe devra se scinder en deux. L’Élue du serpent replongera dans son lourd passé. Accompagnée de la princesse Sanna\, elle partira en quête d’un remède. De leur côté\, Ulfa et Revner visiteront Jotunheim\, le monde des géants\, pour participer à un tournoi de combats au colisée d’Einvigi. Ils affronteront de redoutables guerriers et des Élus tous plus puissants les uns que les autres. Le prix… une fleur d’Eljun! ”
URL:https://www.fbdm-mcaf.ca/en/event/fr-lancement-officiel-du-4e-tome-de-la-serie-les-elus-eljun/
LOCATION:Planète BD\, 4077 R. Saint-Denis\, Montréal\, Québec\, H2W 2M7\, Canada
CATEGORIES:Book Signing,Launch
ATTACH;FMTTYPE=image/jpeg:https://www.fbdm-mcaf.ca/wp-content/uploads/eljun.jpg
GEO:45.5211129;-73.5789005
X-APPLE-STRUCTURED-LOCATION;VALUE=URI;X-ADDRESS=Planète BD 4077 R. Saint-Denis Montréal Québec H2W 2M7 Canada;X-APPLE-RADIUS=500;X-TITLE=4077 R. Saint-Denis:geo:-73.5789005,45.5211129
END:VEVENT
END:VCALENDAR