BEGIN:VCALENDAR
VERSION:2.0
PRODID:-//MCAF - ECPv6.15.11//NONSGML v1.0//EN
CALSCALE:GREGORIAN
METHOD:PUBLISH
X-WR-CALNAME:MCAF
X-ORIGINAL-URL:https://www.fbdm-mcaf.ca/en/
X-WR-CALDESC:Events for MCAF
REFRESH-INTERVAL;VALUE=DURATION:PT1H
X-Robots-Tag:noindex
X-PUBLISHED-TTL:PT1H
BEGIN:VTIMEZONE
TZID:America/New_York
BEGIN:DAYLIGHT
TZOFFSETFROM:-0500
TZOFFSETTO:-0400
TZNAME:EDT
DTSTART:20250309T070000
END:DAYLIGHT
BEGIN:STANDARD
TZOFFSETFROM:-0400
TZOFFSETTO:-0500
TZNAME:EST
DTSTART:20251102T060000
END:STANDARD
BEGIN:DAYLIGHT
TZOFFSETFROM:-0500
TZOFFSETTO:-0400
TZNAME:EDT
DTSTART:20260308T070000
END:DAYLIGHT
BEGIN:STANDARD
TZOFFSETFROM:-0400
TZOFFSETTO:-0500
TZNAME:EST
DTSTART:20261101T060000
END:STANDARD
BEGIN:DAYLIGHT
TZOFFSETFROM:-0500
TZOFFSETTO:-0400
TZNAME:EDT
DTSTART:20270314T070000
END:DAYLIGHT
BEGIN:STANDARD
TZOFFSETFROM:-0400
TZOFFSETTO:-0500
TZNAME:EST
DTSTART:20271107T060000
END:STANDARD
END:VTIMEZONE
BEGIN:VEVENT
DTSTART;TZID=America/New_York:20260420T080000
DTEND;TZID=America/New_York:20260420T170000
DTSTAMP:20260424T061750
CREATED:20260420T214456Z
LAST-MODIFIED:20260420T214657Z
UID:10001419-1776672000-1776704400@www.fbdm-mcaf.ca
SUMMARY:FR Mange\, lis\, aime - Persepolis & Femme\, vie\, liberté de Marjane Satrapi
DESCRIPTION:COMPLET\nAvec Emmanuela Mouberi \nPour les adultes \n\n\nDescription\n\nDécouvrez la culture d’un pays ou d’un peuple grâce à la lecture d’un livre et la dégustation de mets traditionnels ! \n\n15 février : Chronique de la dérive douce de Dany Laferrière (présenté dans le cadre du mois de l’histoire des Noirs)\n29 mars : L’inventaire des rêves de Chimamanda Ngozi Adichie\n26 avril : Jacaranda de Gaël Faye\n24 mai : Persepolis & Femme\, vie\, liberté de Marjane Satrapi\n7 juin : Eka ashate : ne flanche pas de Naomi Fontaine
URL:https://www.fbdm-mcaf.ca/en/event/fr-mange-lis-aime-persepolis-femme-vie-liberte-de-marjane-satrapi/
LOCATION:Bibliothèque Maisonneuve\, 4120 Ontario\, Montréal\, Québec\, H1V 1J9\, Canada
CATEGORIES:Book Club,May, Comic Arts Month
ATTACH;FMTTYPE=image/webp:https://www.fbdm-mcaf.ca/wp-content/uploads/clubmangelis.webp
END:VEVENT
END:VCALENDAR