BEGIN:VCALENDAR
VERSION:2.0
PRODID:-//MCAF - ECPv6.15.11//NONSGML v1.0//EN
CALSCALE:GREGORIAN
METHOD:PUBLISH
X-WR-CALNAME:MCAF
X-ORIGINAL-URL:https://www.fbdm-mcaf.ca/en/
X-WR-CALDESC:Events for MCAF
REFRESH-INTERVAL;VALUE=DURATION:PT1H
X-Robots-Tag:noindex
X-PUBLISHED-TTL:PT1H
BEGIN:VTIMEZONE
TZID:America/New_York
BEGIN:DAYLIGHT
TZOFFSETFROM:-0500
TZOFFSETTO:-0400
TZNAME:EDT
DTSTART:20240310T070000
END:DAYLIGHT
BEGIN:STANDARD
TZOFFSETFROM:-0400
TZOFFSETTO:-0500
TZNAME:EST
DTSTART:20241103T060000
END:STANDARD
BEGIN:DAYLIGHT
TZOFFSETFROM:-0500
TZOFFSETTO:-0400
TZNAME:EDT
DTSTART:20250309T070000
END:DAYLIGHT
BEGIN:STANDARD
TZOFFSETFROM:-0400
TZOFFSETTO:-0500
TZNAME:EST
DTSTART:20251102T060000
END:STANDARD
BEGIN:DAYLIGHT
TZOFFSETFROM:-0500
TZOFFSETTO:-0400
TZNAME:EDT
DTSTART:20260308T070000
END:DAYLIGHT
BEGIN:STANDARD
TZOFFSETFROM:-0400
TZOFFSETTO:-0500
TZNAME:EST
DTSTART:20261101T060000
END:STANDARD
BEGIN:DAYLIGHT
TZOFFSETFROM:-0500
TZOFFSETTO:-0400
TZNAME:EDT
DTSTART:20270314T070000
END:DAYLIGHT
BEGIN:STANDARD
TZOFFSETFROM:-0400
TZOFFSETTO:-0500
TZNAME:EST
DTSTART:20271107T060000
END:STANDARD
END:VTIMEZONE
BEGIN:VEVENT
DTSTART;TZID=America/New_York:20251207T150000
DTEND;TZID=America/New_York:20251207T160000
DTSTAMP:20260424T035017
CREATED:20251201T151404Z
LAST-MODIFIED:20251201T151503Z
UID:10001263-1765119600-1765123200@www.fbdm-mcaf.ca
SUMMARY:Art and Life in Graphic Novels
DESCRIPTION: Main Stage\, Salle des célébrations\nWith:\nD. BoydJuli DelportePascal GirardModerated by François Vigneault\nThree of Quebec’s most distinctive voices in contemporary comics come together to explore the intimate connections between art and autobiography. Juli Delporte (Portrait of a Body)\, D. Boyd (Denniveniquity)\, and Pascal Girard (Pastimes) draw from personal experience to craft stories that are tender\, funny\, and deeply human. Join them for a conversation about turning life into art\, the creative risks of vulnerability\, and the evolving landscape of autobiographical graphic novels. Moderated by François Vigneault.\nMontreal-based cartoonist . hails from Saint John\, New Brunswick – the setting for Denniveniquity and her first graphic memoir\, Chicken Rising. Her work has appeared in the New Brunswick Chapbook Series (Frog Hollow Press)\, the Montreal Review of Books\, and in unique collaborations with some exciting Canadian writers.\nis an author and multidisciplinary artist born in France in 1983. She now lives in Tiohtiá:ke/Montréal. She is the author of several graphic novels published by Drawn & Quarterly\, including This Woman’s Work and Portrait of a Body. She has also published children’s albums\, including the recent Grands oreilles (Éditions de la Pastèque)\, and a book of poems illustrated with etchings\, Décroissance sexuelle (L’Oie de Cravan). She occasionally writes literary essays\, produces illustrations for various magazines and publishing houses\, and collaborates on collective publications. Alongside all this\, Juli explores different printing techniques (serigraphy\, risography\, and etching)\, creates zines\, gives creative workshops\, and makes ceramic pieces.\nwas born in Jonquière\, QC\, in 1981. He is a part-time cartoonist and part-time social worker. He is the award-winning author of several graphic novels\, including Rebecca and Lucie in the Case of the Missing Neighbor\, Nicolas\, Petty Theft\, and most recently the collection Pastimes. He lives in Montreal with his family.\n\nç is an American-born cartoonist living in Québec. He is the creator of the sci-fi graphic novel TITAN (Oni Press\, 2020 / Éditions Pow Pow\, 2017)\, the illustrator of books including Le gâteau empoisonée (Éditions de la Pastèque\, 2025)\, Extraordinary Eyeglasses (Helvetiq\, 2024)\, and Orcs in Space (Oni Press 2021-22)\, and also works as a translator and designer. \nVoir moins
URL:https://www.fbdm-mcaf.ca/en/event/art-and-life-in-graphic-novels/
LOCATION:Casa d’Italia Montréal\, 505 Rue Jean-Talon E\, Montréal\, Québec\, H2R 1T6\, Canada
CATEGORIES:Discussion
ATTACH;FMTTYPE=image/jpeg:https://www.fbdm-mcaf.ca/wp-content/uploads/aelpq.jpg
END:VEVENT
BEGIN:VEVENT
DTSTART;VALUE=DATE:20251213
DTEND;VALUE=DATE:20251215
DTSTAMP:20260424T035017
CREATED:20251204T204324Z
LAST-MODIFIED:20251204T204324Z
UID:10001275-1765584000-1765756799@www.fbdm-mcaf.ca
SUMMARY:L'incroyable Salon du zine - 6e édition
DESCRIPTION:L’Incroyable Salon du Zine revient pour une 6ème édition les 13-14 décembre prochain\, comme d’habitude dans la salle de communauté de la Cité-des-Hospitalières en transition. 😀 @cdhentransition \nMagnifique visuel par Charlie Joubert @charlie.joub
URL:https://www.fbdm-mcaf.ca/en/event/lincroyable-salon-du-zine-6e-edition/
LOCATION:Cité-des-Hospitalières en transition\, 316 Avenue des Pins Ouest\, Montréal\, Québec\, Canada
CATEGORIES:Festival,Special Event
ATTACH;FMTTYPE=image/png:https://www.fbdm-mcaf.ca/wp-content/uploads/Capture-decran-le-2025-12-04-a-15.39.20.png
END:VEVENT
BEGIN:VEVENT
DTSTART;TZID=America/New_York:20251213T130000
DTEND;TZID=America/New_York:20251213T130000
DTSTAMP:20260424T035017
CREATED:20251205T194104Z
LAST-MODIFIED:20251205T194139Z
UID:10001277-1765630800-1765630800@www.fbdm-mcaf.ca
SUMMARY:FR Causerie avec David Goudreault\, Laurent Pinabel et ElDiablo
DESCRIPTION:Joignez-vous à nous le samedi 13 décembre à 13h pour une causerie animée par Amélie Boivin Handfield\, en compagnie de trois créateurs passionnants : David Goudreault\, Laurent Pinabel et ElDiablo. Ensemble\, ils présenteront leur roman graphique La Bête à sa mère\, une adaptation audacieuse et visuellement saisissante du roman phare de David Goudreault.\nCette œuvre\, fruit d’une collaboration entre le poète\, romancier et slameur David Goudreault\, l’illustrateur Laurent Pinabel et le scénariste ElDiablo\, revisite avec intensité et sensibilité l’histoire d’un antihéros inoubliable\, oscillant entre humour noir et tragédie. Le roman graphique offre une nouvelle dimension à cet univers littéraire déjà marquant\, où la parole brute rencontre la puissance du trait.\nNe manquez pas cette occasion de plonger dans les coulisses de la création et d’échanger avec ces trois artistes aux talents complémentaires.
URL:https://www.fbdm-mcaf.ca/en/event/causerie-avec-david-goudreault-laurent-pinabel-et-eldiablo/
LOCATION:Librairie Monet\, 2752\, rue de Salaberry\, Montréal\, Québec\, H3M 1L3\, Canada
CATEGORIES:Discussion
ATTACH;FMTTYPE=image/jpeg:https://www.fbdm-mcaf.ca/wp-content/uploads/labeteasamere.jpg
END:VEVENT
BEGIN:VEVENT
DTSTART;TZID=America/New_York:20251213T140000
DTEND;TZID=America/New_York:20251213T160000
DTSTAMP:20260424T035017
CREATED:20251201T152444Z
LAST-MODIFIED:20251210T165507Z
UID:10001269-1765634400-1765641600@www.fbdm-mcaf.ca
SUMMARY:Rencontres et Dédicaces
DESCRIPTION:Tournée en librairie de Jean-Paul Eid et Claude Paiement à la Librairie Raffin de la Plaza St-Hubert \nPour le dernier événement de l’année\, les @editionspasteque sont à l’honneur !\nNous aurons le plaisir d’accueillir @jeanpauleid & @jimmysuzanart en séance de dédicaces\, le samedi 13 décembre\, de 14h à 16h.
URL:https://www.fbdm-mcaf.ca/en/event/tournee-en-librairie-jean-paul-eid-et-claude-paiement-3/
LOCATION:Librairie Raffin – Plaza St-Hubert\, 6330 Rue St-Hubert\, Montréal\, Québec\, H2S 2M2
CATEGORIES:Book Signing
ATTACH;FMTTYPE=image/png:https://www.fbdm-mcaf.ca/wp-content/uploads/Capture-decran-le-2025-12-08-a-17.16.47.png
END:VEVENT
BEGIN:VEVENT
DTSTART;TZID=America/New_York:20260116T163000
DTEND;TZID=America/New_York:20260116T180000
DTSTAMP:20260424T035017
CREATED:20260116T171933Z
LAST-MODIFIED:20260116T172022Z
UID:10001281-1768581000-1768586400@www.fbdm-mcaf.ca
SUMMARY:500 ans de résistance autochtone - Maya Cousineau-Mollen
DESCRIPTION:Conférence-atelier avec Maya Cousineau-Mollen enrichissant votre expérience de l’exposition présentée à la bibliothèque du 12 janvier au 8 février. \n\n\nDescription\n\nArtiste: Maya Cousineau-Mollen (autrice innue) \nGrâce à un aperçu sensible de l’histoire\, celle qui n’a jamais été écrite\, Maya Cousineau-Mollen tentera de mettre un contexte pertinent à la compréhension de ce qui s’est passé. À travers un voyage sur la ligne du temps\, la lecture de poèmes et le partage de parcours personnels\, elle pourra faire comprendre une certaine dimension de la réalité des Premières Nations. \nDans le cadre de l’exposition «500 ans de résistance autochtone» de Gord Hill.
URL:https://www.fbdm-mcaf.ca/en/event/500-ans-de-resistance-autochtone-maya-cousineau-mollen/
LOCATION:Bibliothèque Benny\, 6400 avenue Monkland\, Montréal\, Québec\, H4B1H3\, Canada
CATEGORIES:Discussion,Workshop
ATTACH;FMTTYPE=image/webp:https://www.fbdm-mcaf.ca/wp-content/uploads/qyarsyptopkpoeoxwbjh.webp
END:VEVENT
BEGIN:VEVENT
DTSTART;TZID=America/New_York:20260120T180000
DTEND;TZID=America/New_York:20260120T193000
DTSTAMP:20260424T035017
CREATED:20260116T174109Z
LAST-MODIFIED:20260116T174109Z
UID:10001285-1768932000-1768937400@www.fbdm-mcaf.ca
SUMMARY:500 ans de résistance autochtone - Jocelyn Sioui
DESCRIPTION:Conférence-atelier avec Jocelyn Sioui enrichissant votre expérience de l’exposition présentée à la bibliothèque du 12 janvier au 8 février. \n\n\nDescription\n\nArtiste: Jocelyn Sioui (auteur\, interprète\, marionnettiste wendat)\, vous pouvez obtenir plus d’informations sur son site web. \nEn marge de l’exposition sur l’œuvre de Gord Hill\, Jocelyn Sioui vous propose «Presque 500 ans de résistance autochtone au Canada». \nDu choc de la rencontre entre Donnacona et Jacques Cartier\, jusqu’au mouvement Idle no more\, Jocelyn démontre que les Premières Nations n’ont jamais cessé de lutter. Il racontera l’autre côté de l’histoire que l’école ne nous a pas enseigné.
URL:https://www.fbdm-mcaf.ca/en/event/500-ans-de-resistance-autochtone-jocelyn-sioui/
LOCATION:Bibliothèque Benny\, 6400 avenue Monkland\, Montréal\, Québec\, H4B1H3\, Canada
CATEGORIES:Discussion,Workshop
ATTACH;FMTTYPE=image/webp:https://www.fbdm-mcaf.ca/wp-content/uploads/vrqd8blunvw8crnqxkvh.webp
END:VEVENT
BEGIN:VEVENT
DTSTART;TZID=America/New_York:20260124T170000
DTEND;TZID=America/New_York:20260124T235900
DTSTAMP:20260424T035017
CREATED:20260116T173802Z
LAST-MODIFIED:20260116T173845Z
UID:10001283-1769274000-1769299140@www.fbdm-mcaf.ca
SUMMARY:FR La nuit de la lecture 8e édition
DESCRIPTION:Rendez-vous sur le site web de LA NUIT DE LA LECTURE de la Fondation LIRE pour réussir pour y découvrir une multitude d’activités\, dont plusieurs autour de la BD. Et ce\, partout au Québec!
URL:https://www.fbdm-mcaf.ca/en/event/fr-la-nuit-de-la-lecture-8e-edition/
LOCATION:Québec
CATEGORIES:Special Event
ATTACH;FMTTYPE=image/png:https://www.fbdm-mcaf.ca/wp-content/uploads/Capture-decran-le-2026-01-16-a-12.36.40.png
END:VEVENT
BEGIN:VEVENT
DTSTART;TZID=America/New_York:20260129T170000
DTEND;TZID=America/New_York:20260129T200000
DTSTAMP:20260424T035017
CREATED:20260123T194529Z
LAST-MODIFIED:20260123T194657Z
UID:10001291-1769706000-1769716800@www.fbdm-mcaf.ca
SUMMARY:FR Lancement - Laurence à son insu
DESCRIPTION:Les Éditions Mécanique Générale ont le plaisir de vous inviter au lancement de la bande dessinée Laurence à son insu\, de Simon Labelle.Retrouvez-nous le 29 janvier prochain dès 17h à la LibrairiePlanète BD (4077 R. Saint-Denis\, Montréal\, QC H2W 2M7)!\nAu menu :– Dédicaces– Apéritif– Séance de dédicaces\nLe livre sera en vente sur place.
URL:https://www.fbdm-mcaf.ca/en/event/lancement-laurence-a-son-insu/
LOCATION:Planète BD\, 4077 R. Saint-Denis\, Montréal\, Québec\, H2W 2M7\, Canada
CATEGORIES:Launch
ATTACH;FMTTYPE=image/png:https://www.fbdm-mcaf.ca/wp-content/uploads/Capture-decran-le-2026-01-23-a-14.44.40.png
GEO:45.5211129;-73.5789005
X-APPLE-STRUCTURED-LOCATION;VALUE=URI;X-ADDRESS=Planète BD 4077 R. Saint-Denis Montréal Québec H2W 2M7 Canada;X-APPLE-RADIUS=500;X-TITLE=4077 R. Saint-Denis:geo:-73.5789005,45.5211129
END:VEVENT
BEGIN:VEVENT
DTSTART;TZID=America/New_York:20260212T190000
DTEND;TZID=America/New_York:20260212T190000
DTSTAMP:20260424T035017
CREATED:20260116T174420Z
LAST-MODIFIED:20260116T174420Z
UID:10001287-1770922800-1770922800@www.fbdm-mcaf.ca
SUMMARY:Joe Ollmann launches The Woodchipper
DESCRIPTION:Join us at Librairie Drawn & Quarterly for the launch of The Woodchipper by Joe Ollmann\, on Thursday February 12th. Books will be available for purchase and following the presentation the author will be signing! This event is free to attend and open to all. No reservation is required./////////////////////////////////////////////////////////////////////////THE WOODCHIPPER: An award-winning cartoonist confronts anxiety and regret in this collection of short stories.\nA long-time city maintenance worker keeps pulling an accident prone newbie’s fat out of the fire or maybe in this case\, an arm and another arm and a leg out of the woodchipper. What happens when NOTHING HAPPENS? Can a disaster averted still be a disaster?\nIn “Nestled All Snug\,” frazzled bookstore clerk Sasha prepares to close the store and head home to watch Hallmark Christmas specials after a fight with her boyfriend means she’s home alone for the holidays. Hmm\, that stack of boxes outside the bathroom seems a little precarious. Maybe Sasha will do returns when she gets back to work post-holidays. FWUMP FWUMP FWUMP. Guess someone is going to regret leaving their phone by the register before going to the bathroom.\nIn The Woodchipper\, Joe Ollmann\, cartoonist of the groundbreaking Governor General Award finalist Fictional Father\, returns with a suite of comic short stories focused on his trademark nervous wreck characters caught in a series of escalating personal disasters. Everybody’s doing their best. Everybody’s just trying to get through the day./////////////////////////////////////////////////////////////////////////JOE OLLMANN lives in Hamilton\, the Riviera of Southern Ontario. His third book with Drawn & Quarterly\, Fictional Father\, was the first graphic novel to be shortlisted in the category of Adult Fiction at the Governor General’s Literary Awards./////////////////////////////////////////////////////////////////////////Librairie Drawn & Quarterly Accessibility information:– Our store uses StopGap.ca ramps in an effort to encourage accessibility. Both the step at the entrance\, followed by a half step and a door have StopGap ramps. The door opens inward and is not automated. Once inside\, there are no additional steps.– There is one non-gendered bathroom.– It is not a sober space\, our events sometimes offer alcohol.– Please email events@drawnandquarterly.com if you have any accessibility needs we can accommodate.
URL:https://www.fbdm-mcaf.ca/en/event/joe-ollmann-launches-the-woodchipper/
LOCATION:Librairie Drawn & Quarterly\, 211 Rue Bernard Ouest\, Montréal\, Québec\, H2T 2K5\, Canada
CATEGORIES:Launch
ATTACH;FMTTYPE=image/jpeg:https://www.fbdm-mcaf.ca/wp-content/uploads/Wuaterly26-08-2025.jpg
END:VEVENT
END:VCALENDAR