BEGIN:VCALENDAR
VERSION:2.0
PRODID:-//MCAF - ECPv6.15.11//NONSGML v1.0//EN
CALSCALE:GREGORIAN
METHOD:PUBLISH
X-ORIGINAL-URL:https://www.fbdm-mcaf.ca/en/
X-WR-CALDESC:Events for MCAF
REFRESH-INTERVAL;VALUE=DURATION:PT1H
X-Robots-Tag:noindex
X-PUBLISHED-TTL:PT1H
BEGIN:VTIMEZONE
TZID:America/New_York
BEGIN:DAYLIGHT
TZOFFSETFROM:-0500
TZOFFSETTO:-0400
TZNAME:EDT
DTSTART:20250309T070000
END:DAYLIGHT
BEGIN:STANDARD
TZOFFSETFROM:-0400
TZOFFSETTO:-0500
TZNAME:EST
DTSTART:20251102T060000
END:STANDARD
BEGIN:DAYLIGHT
TZOFFSETFROM:-0500
TZOFFSETTO:-0400
TZNAME:EDT
DTSTART:20260308T070000
END:DAYLIGHT
BEGIN:STANDARD
TZOFFSETFROM:-0400
TZOFFSETTO:-0500
TZNAME:EST
DTSTART:20261101T060000
END:STANDARD
BEGIN:DAYLIGHT
TZOFFSETFROM:-0500
TZOFFSETTO:-0400
TZNAME:EDT
DTSTART:20270314T070000
END:DAYLIGHT
BEGIN:STANDARD
TZOFFSETFROM:-0400
TZOFFSETTO:-0500
TZNAME:EST
DTSTART:20271107T060000
END:STANDARD
END:VTIMEZONE
BEGIN:VEVENT
DTSTART;TZID=America/New_York:20260524T130000
DTEND;TZID=America/New_York:20260524T170000
DTSTAMP:20260423T074111
CREATED:20260420T214850Z
LAST-MODIFIED:20260420T214907Z
UID:10001421-1779627600-1779642000@www.fbdm-mcaf.ca
SUMMARY:FR Rencontre d’auteur - BD Géants aux pieds d’argile
DESCRIPTION:Vous aimez les bandes-dessinées ? \n\n\nDescription\n\nVenez participer à notre rencontre d’auteur et atelier de dessin. Vous y rencontrerez le dessinateur et l’auteur de la bande-dessinée Géants aux pieds d’argile et apprendrez à dessiner la bande-dessinée.
URL:https://www.fbdm-mcaf.ca/en/event/fr-rencontre-dauteur-bd-geants-aux-pieds-dargile/
LOCATION:Bibliothèque de Parc-Extension\, 421 rue Saint-Roch\, Montréal\, Québec\, H3N1K2\, Canada
CATEGORIES:Discussion,May, Comic Arts Month
ATTACH;FMTTYPE=image/jpeg:https://www.fbdm-mcaf.ca/wp-content/uploads/geants-aux-pieds-d-argile_couv.jpg
END:VEVENT
BEGIN:VEVENT
DTSTART;TZID=America/New_York:20260529T163000
DTEND;TZID=America/New_York:20260529T173000
DTSTAMP:20260423T074111
CREATED:20260420T215045Z
LAST-MODIFIED:20260420T215108Z
UID:10001423-1780072200-1780075800@www.fbdm-mcaf.ca
SUMMARY:FR Quiz du mois de la BD
DESCRIPTION:À l’occasion du Mois de la BD\, emprunte une sélection de bandes dessinées afin de te préparer à participer\, en équipe\, à un quiz ludique autour du neuvième art. Pour les 8 à 13 ans. L’activité se déroule en français.
URL:https://www.fbdm-mcaf.ca/en/event/fr-quiz-du-mois-de-la-bd/
LOCATION:Bibliothèque Benny\, 6400 avenue Monkland\, Montréal\, Québec\, H4B1H3\, Canada
CATEGORIES:May, Comic Arts Month,Special Event
ATTACH;FMTTYPE=image/png:https://www.fbdm-mcaf.ca/wp-content/uploads/quiz_bd_benny.png
END:VEVENT
BEGIN:VEVENT
DTSTART;TZID=America/New_York:20260531T140000
DTEND;TZID=America/New_York:20260531T150000
DTSTAMP:20260423T074111
CREATED:20260420T215351Z
LAST-MODIFIED:20260420T220126Z
UID:10001425-1780236000-1780239600@www.fbdm-mcaf.ca
SUMMARY:FR Atelier de bande dessinée (6 à 13 ans)
DESCRIPTION:Avec Dominique Pelletier\, bédéiste \nViens découvrir le métier de bédéiste et dessiner ton propre personnage de bande dessinée! Tous les enfants repartiront à la maison avec un dessin de personnage qu’ils auront créé et certains auront même la chance de gagner un dessin format géant! \n\n\nDescription\n\nInscription disponible dès le 9 février \nPour les enfants de 6 à 13 ans. \nInscription obligatoire. \n15 places disponibles.
URL:https://www.fbdm-mcaf.ca/en/event/atelier-de-bande-dessinee-6-a-13-ans/
LOCATION:Bibliothèque du Vieux-Saint-Laurent\, 1380 rue de l'Église\, Montréal\, Québec\, Canada
CATEGORIES:May, Comic Arts Month,Workshop
ATTACH;FMTTYPE=image/png:https://www.fbdm-mcaf.ca/wp-content/uploads/atelierBD6-13ans.png
END:VEVENT
END:VCALENDAR