BEGIN:VCALENDAR
VERSION:2.0
PRODID:-//MCAF - ECPv6.15.11//NONSGML v1.0//EN
CALSCALE:GREGORIAN
METHOD:PUBLISH
X-WR-CALNAME:MCAF
X-ORIGINAL-URL:https://www.fbdm-mcaf.ca/en/
X-WR-CALDESC:Events for MCAF
REFRESH-INTERVAL;VALUE=DURATION:PT1H
X-Robots-Tag:noindex
X-PUBLISHED-TTL:PT1H
BEGIN:VTIMEZONE
TZID:America/New_York
BEGIN:DAYLIGHT
TZOFFSETFROM:-0500
TZOFFSETTO:-0400
TZNAME:EDT
DTSTART:20250309T070000
END:DAYLIGHT
BEGIN:STANDARD
TZOFFSETFROM:-0400
TZOFFSETTO:-0500
TZNAME:EST
DTSTART:20251102T060000
END:STANDARD
BEGIN:DAYLIGHT
TZOFFSETFROM:-0500
TZOFFSETTO:-0400
TZNAME:EDT
DTSTART:20260308T070000
END:DAYLIGHT
BEGIN:STANDARD
TZOFFSETFROM:-0400
TZOFFSETTO:-0500
TZNAME:EST
DTSTART:20261101T060000
END:STANDARD
BEGIN:DAYLIGHT
TZOFFSETFROM:-0500
TZOFFSETTO:-0400
TZNAME:EDT
DTSTART:20270314T070000
END:DAYLIGHT
BEGIN:STANDARD
TZOFFSETFROM:-0400
TZOFFSETTO:-0500
TZNAME:EST
DTSTART:20271107T060000
END:STANDARD
END:VTIMEZONE
BEGIN:VEVENT
DTSTART;VALUE=DATE:20260212
DTEND;VALUE=DATE:20260323
DTSTAMP:20260423T033943
CREATED:20260305T011504Z
LAST-MODIFIED:20260305T011504Z
UID:10001315-1770854400-1774223999@www.fbdm-mcaf.ca
SUMMARY:Je ne suis pas une artiste - Marina León
DESCRIPTION:Dans Je ne suis pas une artiste\, le récit personnel s’affirme comme outil critique : une série de bandes dessinées qui interroge l’étrangéité\, les stéréotypes et la place de la BD dans l’art visuel. \n\n\nDescription\n\nÀ travers une série de bandes dessinées autobiographiques empreintes d’humour\, Je ne suis pas une artiste met en parallèle deux thèmes : l’identité multiculturelle et la place de la bande dessinée dans le champ de l’art visuel contemporain. Le projet prend la forme d’une exposition hybride et volontairement contradictoire\, où le récit personnel devient un outil pour interroger les frontières entre disciplines et entre appartenances culturelles. L’artiste y explore la sensation d’étrangéité — d’être à la fois ici et ailleurs — tout en réfléchissant à ses propres stéréotypes sur l’argentinité\, la brésilianité et l’art. \nUne rencontre avec l’artiste le mardi 24 février 2026 à 18h 30. \nEntrée libre
URL:https://www.fbdm-mcaf.ca/en/event/je-ne-suis-pas-une-artiste-marina-leon/
LOCATION:Maison de la culture Ahuntsic\, 10300\, rue Lajeunesse\, Montréal\, Québec\, H3L 2E5\, Canada
CATEGORIES:Exhibition
ATTACH;FMTTYPE=image/png:https://www.fbdm-mcaf.ca/wp-content/uploads/Capture-decran-le-2026-03-04-a-20.09.02.png
END:VEVENT
BEGIN:VEVENT
DTSTART;TZID=America/New_York:20260226T170000
DTEND;TZID=America/New_York:20260226T190000
DTSTAMP:20260423T033943
CREATED:20260213T155613Z
LAST-MODIFIED:20260213T155656Z
UID:10001299-1772125200-1772132400@www.fbdm-mcaf.ca
SUMMARY:FR Lancement collectif de La Pastèque
DESCRIPTION:À vos agendas! 2026 a débuté fort\, avec au programme en jeunesse : un documentaire sur le cerveau\, des bandes dessinées qui décoiffent et émeuvent\, un album qu’on a envie de lire et relire On vous convie au premier lancement collectif de cette année\, en compagnie de :– Guillaume Corbeil pour LA VIE RANGÉE DE THÉODORE (illustré par Cécile Gariépy) – Jacques Goldstyn pour NOM D’UNE PIPE! (à venir le 18 février )– Erik Harvey-Girard et Stéphane Poirier pour QUEL CHANTIER! ATTENTION\, CERVEAU AU TRAVAIL – Rémy Simard pour SOUS TERRE\, SOUS MER ET DANS L’ESPACE!\, des aventures de Boris Venez rencontrer les artistes et trinquer avec eux\, à la santé de ces beaux livres  Jeudi 26 février 17h à 19h La Pastèque\, 102 avenue Laurier Ouest à Montréal
URL:https://www.fbdm-mcaf.ca/en/event/fr-lancement-collectif-de-la-pasteque/
LOCATION:La Pastèque\, 102 Av Laurier Ouest\, Montréal\, Québec\, Canada
CATEGORIES:Launch
ATTACH;FMTTYPE=image/jpeg:https://www.fbdm-mcaf.ca/wp-content/uploads/pasteque_lancementcollectif_20260226.jpg
END:VEVENT
END:VCALENDAR